BEGIN:VCALENDAR
VERSION:2.0
PRODID:-//AusschreibungsRadar//Timeline//DE
CALSCALE:GREGORIAN
METHOD:PUBLISH
X-WR-CALNAME:Projekt Grundhafte Sanierung der Staatlichen Grundschule Wurzbach ei
X-WR-TIMEZONE:Europe/Berlin
BEGIN:VEVENT
UID:e7a38ba81bb741d0@ausschreibungsradar.com
DTSTAMP:20260424T213852Z
DTSTART;VALUE=DATE:20250527
DTEND;VALUE=DATE:20250527
SUMMARY:Ausschreibung — Grundhafte Sanierung der Staatlichen Grundschule Wurzbach ei
DESCRIPTION:Phase: Ausschreibung | Beschreibung: Angebote werden eingeholt | Link: https://ausschreibungsradar.com/ausschreibung/8bf06ca2-1180-4335-93a1-a1f7036c2c59/ | Geschätzter Wert: 110000 €
URL:https://ausschreibungsradar.com/ausschreibung/8bf06ca2-1180-4335-93a1-a1f7036c2c59/
END:VEVENT
BEGIN:VEVENT
UID:aea5144d2bfb4c17@ausschreibungsradar.com
DTSTAMP:20260424T213852Z
DTSTART;VALUE=DATE:20250527
DTEND;VALUE=DATE:20250527
SUMMARY:Ausschreibung — Grundhafte Sanierung der Staatlichen Grundschule Wurzbach ei
DESCRIPTION:Phase: Ausschreibung | Beschreibung: Offizielle Ausschreibung mit Bieterfrist. | Link: https://ausschreibungsradar.com/ausschreibung/5821d33e-5e5a-472a-9911-f095950af7d8/
URL:https://ausschreibungsradar.com/ausschreibung/5821d33e-5e5a-472a-9911-f095950af7d8/
END:VEVENT
BEGIN:VEVENT
UID:060748cb85a9667f@ausschreibungsradar.com
DTSTAMP:20260424T213852Z
DTSTART;VALUE=DATE:20250807
DTEND;VALUE=DATE:20250807
SUMMARY:Vergabeergebnis — Grundhafte Sanierung der Staatlichen Grundschule Wurzbach ei
DESCRIPTION:Phase: Vergabeergebnis | Beschreibung: Keine Angebote eingegangen | Link: https://ausschreibungsradar.com/ausschreibung/d8d4a254-f7c0-4e13-b3bf-f58444c10c62/ | Geschätzter Wert: 110000 €
URL:https://ausschreibungsradar.com/ausschreibung/d8d4a254-f7c0-4e13-b3bf-f58444c10c62/
END:VEVENT
END:VCALENDAR
