BEGIN:VCALENDAR
VERSION:2.0
PRODID:-//AusschreibungsRadar//Timeline//DE
CALSCALE:GREGORIAN
METHOD:PUBLISH
X-WR-CALNAME:Projekt BA II - Lüftung
X-WR-TIMEZONE:Europe/Berlin
BEGIN:VEVENT
UID:a7732e8f9f765641@ausschreibungsradar.com
DTSTAMP:20260425T030933Z
DTSTART;VALUE=DATE:20260512
DTEND;VALUE=DATE:20260512
SUMMARY:Angebotsfrist — BA II - Lüftung
DESCRIPTION:Phase: Ausschreibung | Beschreibung: Angebote werden eingeholt | Link: https://ausschreibungsradar.com/ausschreibung/8bfd8c1c-b2a6-43da-ab3e-1678fb678fef/
URL:https://ausschreibungsradar.com/ausschreibung/8bfd8c1c-b2a6-43da-ab3e-1678fb678fef/
END:VEVENT
END:VCALENDAR
