BEGIN:VCALENDAR
VERSION:2.0
PRODID:-//AusschreibungsRadar//Timeline//DE
CALSCALE:GREGORIAN
METHOD:PUBLISH
X-WR-CALNAME:Projekt MKK: Stadtschule Schlüchtern, Stahl- und Metallbauarbeiten
X-WR-TIMEZONE:Europe/Berlin
BEGIN:VEVENT
UID:b36fee8aae441dae@ausschreibungsradar.com
DTSTAMP:20260424T175423Z
DTSTART;VALUE=DATE:20240603
DTEND;VALUE=DATE:20240603
SUMMARY:Zuschlag — MKK: Stadtschule Schlüchtern\, Stahl- und Metallbauarbeiten
DESCRIPTION:Phase: Zuschlag | Beschreibung: Vergabeergebnis — Auftrag wurde erteilt oder Verfahren beendet. | Link: https://ausschreibungsradar.com/ausschreibung/4c4219e7-3961-4ca8-931a-b0bac2eb854a/
URL:https://ausschreibungsradar.com/ausschreibung/4c4219e7-3961-4ca8-931a-b0bac2eb854a/
END:VEVENT
BEGIN:VEVENT
UID:21d38633f8911a22@ausschreibungsradar.com
DTSTAMP:20260424T175423Z
DTSTART;VALUE=DATE:20240611
DTEND;VALUE=DATE:20240611
SUMMARY:Zuschlag — MKK: Stadtschule Schlüchtern\, Stahl- und Metallbauarbeiten
DESCRIPTION:Phase: Zuschlag | Beschreibung: Vergabeergebnis — Auftrag wurde erteilt oder Verfahren beendet. | Link: https://ausschreibungsradar.com/ausschreibung/65503447-2a37-4e88-b2f3-a5b67954f99d/
URL:https://ausschreibungsradar.com/ausschreibung/65503447-2a37-4e88-b2f3-a5b67954f99d/
END:VEVENT
BEGIN:VEVENT
UID:9cc7feb04e1b6c78@ausschreibungsradar.com
DTSTAMP:20260424T175423Z
DTSTART;VALUE=DATE:20240612
DTEND;VALUE=DATE:20240612
SUMMARY:Zuschlag — MKK: Stadtschule Schlüchtern\, Stahl- und Metallbauarbeiten
DESCRIPTION:Phase: Zuschlag | Beschreibung: Vergabeergebnis — Auftrag wurde erteilt oder Verfahren beendet. | Link: https://ausschreibungsradar.com/ausschreibung/6b61dc0a-024a-4a88-9942-d791ff828df9/
URL:https://ausschreibungsradar.com/ausschreibung/6b61dc0a-024a-4a88-9942-d791ff828df9/
END:VEVENT
BEGIN:VEVENT
UID:44e1ff90171aa610@ausschreibungsradar.com
DTSTAMP:20260424T175423Z
DTSTART;VALUE=DATE:20240613
DTEND;VALUE=DATE:20240613
SUMMARY:Ausschreibung — MKK: Stadtschule Schlüchtern\, Stahl- und Metallbauarbeiten
DESCRIPTION:Phase: Ausschreibung | Beschreibung: Offizielle Ausschreibung mit Bieterfrist. | Link: https://ausschreibungsradar.com/ausschreibung/8c08c3dc-6d71-49ca-a04a-453f63ec4e74/
URL:https://ausschreibungsradar.com/ausschreibung/8c08c3dc-6d71-49ca-a04a-453f63ec4e74/
END:VEVENT
BEGIN:VEVENT
UID:f9529844518335a2@ausschreibungsradar.com
DTSTAMP:20260424T175423Z
DTSTART;VALUE=DATE:20240627
DTEND;VALUE=DATE:20240627
SUMMARY:Zuschlag — MKK: Stadtschule Schlüchtern\, Stahl- und Metallbauarbeiten
DESCRIPTION:Phase: Zuschlag | Beschreibung: Vergabeergebnis — Auftrag wurde erteilt oder Verfahren beendet. | Link: https://ausschreibungsradar.com/ausschreibung/af622df0-7a07-464e-bb6e-cd675c7aceea/
URL:https://ausschreibungsradar.com/ausschreibung/af622df0-7a07-464e-bb6e-cd675c7aceea/
END:VEVENT
BEGIN:VEVENT
UID:1c6bdfb1057872a7@ausschreibungsradar.com
DTSTAMP:20260424T175423Z
DTSTART;VALUE=DATE:20240709
DTEND;VALUE=DATE:20240709
SUMMARY:Ausschreibung — MKK: Stadtschule Schlüchtern\, Stahl- und Metallbauarbeiten
DESCRIPTION:Phase: Ausschreibung | Beschreibung: Offizielle Ausschreibung mit Bieterfrist. | Link: https://ausschreibungsradar.com/ausschreibung/6a1e4721-4163-4ae8-9d33-c3c2777e3069/
URL:https://ausschreibungsradar.com/ausschreibung/6a1e4721-4163-4ae8-9d33-c3c2777e3069/
END:VEVENT
END:VCALENDAR
