BEGIN:VCALENDAR
VERSION:2.0
PRODID:-//AusschreibungsRadar//Timeline//DE
CALSCALE:GREGORIAN
METHOD:PUBLISH
X-WR-CALNAME:Projekt InHK Blankenberg - Mauersanierung M07 Turm-Gerüstarbeiten
X-WR-TIMEZONE:Europe/Berlin
BEGIN:VEVENT
UID:661bf7b71cfb5df2@ausschreibungsradar.com
DTSTAMP:20260424T073430Z
DTSTART;VALUE=DATE:20250612
DTEND;VALUE=DATE:20250612
SUMMARY:Angebotsfrist — InHK Blankenberg - Mauersanierung M07 Turm-Gerüstarbeiten
DESCRIPTION:Phase: Ausschreibung | Beschreibung: Angebote werden eingeholt | Link: https://ausschreibungsradar.com/ausschreibung/aa37a0a4-5aac-4daa-97d4-026555dfa2f0/
URL:https://ausschreibungsradar.com/ausschreibung/aa37a0a4-5aac-4daa-97d4-026555dfa2f0/
END:VEVENT
BEGIN:VEVENT
UID:b73a7b45bd5db818@ausschreibungsradar.com
DTSTAMP:20260424T073430Z
DTSTART;VALUE=DATE:20250723
DTEND;VALUE=DATE:20250723
SUMMARY:Vergabeergebnis — InHK Blankenberg - Mauersanierung M07 Turm-Gerüstarbeiten
DESCRIPTION:Phase: Vergabeergebnis | Beschreibung: Auftrag wurde zugeschlagen | Link: https://ausschreibungsradar.com/ausschreibung/8c24baa3-d71f-4502-bf91-1f801d3ab42d/ | Geschätzter Wert: 25000 €
URL:https://ausschreibungsradar.com/ausschreibung/8c24baa3-d71f-4502-bf91-1f801d3ab42d/
END:VEVENT
END:VCALENDAR
