BEGIN:VCALENDAR
VERSION:2.0
PRODID:-//AusschreibungsRadar//Timeline//DE
CALSCALE:GREGORIAN
METHOD:PUBLISH
X-WR-CALNAME:Projekt Kooperationsvertrag über WHEELUP! - ein Präventionsprogramm 
X-WR-TIMEZONE:Europe/Berlin
BEGIN:VEVENT
UID:434a1fa265ada9d3@ausschreibungsradar.com
DTSTAMP:20260424T062909Z
DTSTART;VALUE=DATE:20250506
DTEND;VALUE=DATE:20250506
SUMMARY:Angebotsfrist — Kooperationsvertrag über WHEELUP! - ein Präventionsprogramm 
DESCRIPTION:Phase: Ausschreibung | Beschreibung: Angebote werden eingeholt | Link: https://ausschreibungsradar.com/ausschreibung/8c48731a-5196-4d50-8573-eaf248643b82/
URL:https://ausschreibungsradar.com/ausschreibung/8c48731a-5196-4d50-8573-eaf248643b82/
END:VEVENT
BEGIN:VEVENT
UID:8ab342dae2ad4e73@ausschreibungsradar.com
DTSTAMP:20260424T062909Z
DTSTART;VALUE=DATE:20250526
DTEND;VALUE=DATE:20250526
SUMMARY:Vergabeergebnis — Kooperationsvertrag über WHEELUP! - ein Präventionsprogramm 
DESCRIPTION:Phase: Vergabeergebnis | Beschreibung: Auftrag wurde zugeschlagen | Link: https://ausschreibungsradar.com/ausschreibung/3121aa33-d7b8-40c3-ba21-58a9e1eabcd0/
URL:https://ausschreibungsradar.com/ausschreibung/3121aa33-d7b8-40c3-ba21-58a9e1eabcd0/
END:VEVENT
END:VCALENDAR
