BEGIN:VCALENDAR
VERSION:2.0
PRODID:-//AusschreibungsRadar//Timeline//DE
CALSCALE:GREGORIAN
METHOD:PUBLISH
X-WR-CALNAME:Projekt Abbruch im Bestand
X-WR-TIMEZONE:Europe/Berlin
BEGIN:VEVENT
UID:79bfcbf24dbbc707@ausschreibungsradar.com
DTSTAMP:20260425T134750Z
DTSTART;VALUE=DATE:20241114
DTEND;VALUE=DATE:20241114
SUMMARY:Angebotsfrist — Abbruch im Bestand
DESCRIPTION:Phase: Ausschreibung | Beschreibung: Angebote werden eingeholt | Link: https://ausschreibungsradar.com/ausschreibung/8cb35c06-9e7d-4f8a-91c3-08f1fe4b7b1a/
URL:https://ausschreibungsradar.com/ausschreibung/8cb35c06-9e7d-4f8a-91c3-08f1fe4b7b1a/
END:VEVENT
BEGIN:VEVENT
UID:e31337ef8d67fe0d@ausschreibungsradar.com
DTSTAMP:20260425T134750Z
DTSTART;VALUE=DATE:20250108
DTEND;VALUE=DATE:20250108
SUMMARY:Vergabeergebnis — Abbruch im Bestand
DESCRIPTION:Phase: Vergabeergebnis | Beschreibung: Auftrag wurde zugeschlagen | Link: https://ausschreibungsradar.com/ausschreibung/f64e18c9-af26-45ed-81ec-e03875627916/
URL:https://ausschreibungsradar.com/ausschreibung/f64e18c9-af26-45ed-81ec-e03875627916/
END:VEVENT
END:VCALENDAR
