BEGIN:VCALENDAR
VERSION:2.0
PRODID:-//AusschreibungsRadar//Timeline//DE
CALSCALE:GREGORIAN
METHOD:PUBLISH
X-WR-CALNAME:Projekt Maschinen- und Verfahrenstechnik Vorklärbecken und Belebungs
X-WR-TIMEZONE:Europe/Berlin
BEGIN:VEVENT
UID:f62e21314e920b23@ausschreibungsradar.com
DTSTAMP:20260425T235709Z
DTSTART;VALUE=DATE:20250430
DTEND;VALUE=DATE:20250430
SUMMARY:Ausschreibung — Maschinen- und Verfahrenstechnik Vorklärbecken und Belebungs
DESCRIPTION:Phase: Ausschreibung | Beschreibung: Angebote werden eingeholt | Link: https://ausschreibungsradar.com/ausschreibung/8d155f03-7a8b-493f-8c95-20161a6eeb3d/
URL:https://ausschreibungsradar.com/ausschreibung/8d155f03-7a8b-493f-8c95-20161a6eeb3d/
END:VEVENT
BEGIN:VEVENT
UID:d2001d60fd0b43fc@ausschreibungsradar.com
DTSTAMP:20260425T235709Z
DTSTART;VALUE=DATE:20250430
DTEND;VALUE=DATE:20250430
SUMMARY:Ausschreibung — Maschinen- und Verfahrenstechnik Vorklärbecken und Belebungs
DESCRIPTION:Phase: Ausschreibung | Beschreibung: Offizielle Ausschreibung mit Bieterfrist. | Link: https://ausschreibungsradar.com/ausschreibung/ba1df8fe-8f88-4e86-97d5-0fdb934e4e18/
URL:https://ausschreibungsradar.com/ausschreibung/ba1df8fe-8f88-4e86-97d5-0fdb934e4e18/
END:VEVENT
BEGIN:VEVENT
UID:9ee4b244e0a010ae@ausschreibungsradar.com
DTSTAMP:20260425T235709Z
DTSTART;VALUE=DATE:20250430
DTEND;VALUE=DATE:20250430
SUMMARY:Ausschreibung — Maschinen- und Verfahrenstechnik Vorklärbecken und Belebungs
DESCRIPTION:Phase: Ausschreibung | Beschreibung: Offizielle Ausschreibung mit Bieterfrist. | Link: https://ausschreibungsradar.com/ausschreibung/3a963b6f-ccf5-4d34-a5df-9242771b907b/
URL:https://ausschreibungsradar.com/ausschreibung/3a963b6f-ccf5-4d34-a5df-9242771b907b/
END:VEVENT
BEGIN:VEVENT
UID:6d59a95bac758c69@ausschreibungsradar.com
DTSTAMP:20260425T235709Z
DTSTART;VALUE=DATE:20250804
DTEND;VALUE=DATE:20250804
SUMMARY:Vergabeergebnis — Maschinen- und Verfahrenstechnik Vorklärbecken und Belebungs
DESCRIPTION:Phase: Vergabeergebnis | Beschreibung: Auftrag wurde zugeschlagen | Link: https://ausschreibungsradar.com/ausschreibung/4c886a4e-0fff-4fe4-9ff1-f7bab864104b/
URL:https://ausschreibungsradar.com/ausschreibung/4c886a4e-0fff-4fe4-9ff1-f7bab864104b/
END:VEVENT
END:VCALENDAR
