BEGIN:VCALENDAR
VERSION:2.0
PRODID:-//AusschreibungsRadar//Timeline//DE
CALSCALE:GREGORIAN
METHOD:PUBLISH
X-WR-CALNAME:Projekt Main-Kinzig-Kreis Eigenbetrieb Abfallwirtschaft - Vergabe ei
X-WR-TIMEZONE:Europe/Berlin
BEGIN:VEVENT
UID:8ba3e8c12475df64@ausschreibungsradar.com
DTSTAMP:20260425T144148Z
DTSTART;VALUE=DATE:20250715
DTEND;VALUE=DATE:20250715
SUMMARY:Ausschreibung — Main-Kinzig-Kreis Eigenbetrieb Abfallwirtschaft - Vergabe ei
DESCRIPTION:Phase: Ausschreibung | Beschreibung: Angebote werden eingeholt | Link: https://ausschreibungsradar.com/ausschreibung/8d86692b-b29e-4098-9c52-b51be514c0fa/
URL:https://ausschreibungsradar.com/ausschreibung/8d86692b-b29e-4098-9c52-b51be514c0fa/
END:VEVENT
BEGIN:VEVENT
UID:f4aa34c35f99c764@ausschreibungsradar.com
DTSTAMP:20260425T144148Z
DTSTART;VALUE=DATE:20260212
DTEND;VALUE=DATE:20260212
SUMMARY:Vergabeergebnis — Main-Kinzig-Kreis Eigenbetrieb Abfallwirtschaft - Vergabe ei
DESCRIPTION:Phase: Vergabeergebnis | Beschreibung: Auftrag wurde zugeschlagen | Link: https://ausschreibungsradar.com/ausschreibung/8ee050ed-8670-4f31-ba24-03534d02103b/
URL:https://ausschreibungsradar.com/ausschreibung/8ee050ed-8670-4f31-ba24-03534d02103b/
END:VEVENT
END:VCALENDAR
