BEGIN:VCALENDAR
VERSION:2.0
PRODID:-//AusschreibungsRadar//Timeline//DE
CALSCALE:GREGORIAN
METHOD:PUBLISH
X-WR-CALNAME:Projekt Beschaffung eines Substrathandlers für die Ionenstrahlanlage
X-WR-TIMEZONE:Europe/Berlin
BEGIN:VEVENT
UID:c6d284caa35cf7fd@ausschreibungsradar.com
DTSTAMP:20260425T234823Z
DTSTART;VALUE=DATE:20260420
DTEND;VALUE=DATE:20260420
SUMMARY:Vorinformation — Beschaffung eines Substrathandlers für die Ionenstrahlanlage
DESCRIPTION:Phase: Vorinformation | Beschreibung: Vorab-Ankündigung der Vergabestelle — keine verbindliche Ausschreibung. | Link: https://ausschreibungsradar.com/ausschreibung/8e1aabf3-eed9-49e9-9fc2-5793c0f6a905
URL:https://ausschreibungsradar.com/ausschreibung/8e1aabf3-eed9-49e9-9fc2-5793c0f6a905/
END:VEVENT
BEGIN:VEVENT
UID:1c5425808572323c@ausschreibungsradar.com
DTSTAMP:20260425T234823Z
DTSTART;VALUE=DATE:20260423
DTEND;VALUE=DATE:20260423
SUMMARY:Vorinformation — Beschaffung eines Substrathandlers für die Ionenstrahlanlage
DESCRIPTION:Phase: Vorinformation | Beschreibung: Vorab-Ankündigung der Vergabestelle — keine verbindliche Ausschreibung. | Link: https://ausschreibungsradar.com/ausschreibung/ted-279130-2026/
URL:https://ausschreibungsradar.com/ausschreibung/ted-279130-2026/
END:VEVENT
END:VCALENDAR
