BEGIN:VCALENDAR
VERSION:2.0
PRODID:-//AusschreibungsRadar//Timeline//DE
CALSCALE:GREGORIAN
METHOD:PUBLISH
X-WR-CALNAME:Projekt Gemeinde Löcknitz - Fernmeldetechnik zum Ersatzneubau Region
X-WR-TIMEZONE:Europe/Berlin
BEGIN:VEVENT
UID:3cd09f6d78095830@ausschreibungsradar.com
DTSTAMP:20260423T214500Z
DTSTART;VALUE=DATE:20250624
DTEND;VALUE=DATE:20250624
SUMMARY:Angebotsfrist — Gemeinde Löcknitz - Fernmeldetechnik zum Ersatzneubau Region
DESCRIPTION:Phase: Ausschreibung | Beschreibung: Angebote werden eingeholt | Link: https://ausschreibungsradar.com/ausschreibung/10cd6b69-63e9-4c1f-949b-89cb7743413d/ | Geschätzter Wert: 170000 €
URL:https://ausschreibungsradar.com/ausschreibung/10cd6b69-63e9-4c1f-949b-89cb7743413d/
END:VEVENT
BEGIN:VEVENT
UID:87cc1b9095f04986@ausschreibungsradar.com
DTSTAMP:20260423T214500Z
DTSTART;VALUE=DATE:20250807
DTEND;VALUE=DATE:20250807
SUMMARY:Zuschlag — Gemeinde Löcknitz - Fernmeldetechnik zum Ersatzneubau Region
DESCRIPTION:Phase: Zuschlag | Beschreibung: Vergabeergebnis — Auftrag wurde erteilt oder Verfahren beendet. | Link: https://ausschreibungsradar.com/ausschreibung/6956faa2-1e93-484c-9301-fa07416c597b/
URL:https://ausschreibungsradar.com/ausschreibung/6956faa2-1e93-484c-9301-fa07416c597b/
END:VEVENT
BEGIN:VEVENT
UID:b5423f2d2d1ce965@ausschreibungsradar.com
DTSTAMP:20260423T214500Z
DTSTART;VALUE=DATE:20250807
DTEND;VALUE=DATE:20250807
SUMMARY:Zuschlag — Gemeinde Löcknitz - Fernmeldetechnik zum Ersatzneubau Region
DESCRIPTION:Phase: Zuschlag | Beschreibung: Vergabeergebnis — Auftrag wurde erteilt oder Verfahren beendet. | Link: https://ausschreibungsradar.com/ausschreibung/e5293264-fb0a-4d0c-ba77-d3cbf9ed31e1/
URL:https://ausschreibungsradar.com/ausschreibung/e5293264-fb0a-4d0c-ba77-d3cbf9ed31e1/
END:VEVENT
BEGIN:VEVENT
UID:0065b75d50cf1c73@ausschreibungsradar.com
DTSTAMP:20260423T214500Z
DTSTART;VALUE=DATE:20250918
DTEND;VALUE=DATE:20250918
SUMMARY:Vergabeergebnis — Gemeinde Löcknitz - Fernmeldetechnik zum Ersatzneubau Region
DESCRIPTION:Phase: Vergabeergebnis | Beschreibung: Auftrag wurde zugeschlagen | Link: https://ausschreibungsradar.com/ausschreibung/8e1ae5bc-c5c7-43a7-be4e-6857f195671e/ | Auftragnehmer: Freese Fußbodentechnik Gm
URL:https://ausschreibungsradar.com/ausschreibung/8e1ae5bc-c5c7-43a7-be4e-6857f195671e/
END:VEVENT
BEGIN:VEVENT
UID:2168d2907f193a45@ausschreibungsradar.com
DTSTAMP:20260423T214500Z
DTSTART;VALUE=DATE:20250918
DTEND;VALUE=DATE:20250918
SUMMARY:Zuschlag — Gemeinde Löcknitz - Fernmeldetechnik zum Ersatzneubau Region
DESCRIPTION:Phase: Zuschlag | Beschreibung: Vergabeergebnis — Auftrag wurde erteilt oder Verfahren beendet. | Link: https://ausschreibungsradar.com/ausschreibung/812124ff-b6b8-4264-bdf6-efe8eca113b3/
URL:https://ausschreibungsradar.com/ausschreibung/812124ff-b6b8-4264-bdf6-efe8eca113b3/
END:VEVENT
BEGIN:VEVENT
UID:98921b6d361d4c85@ausschreibungsradar.com
DTSTAMP:20260423T214500Z
DTSTART;VALUE=DATE:20250918
DTEND;VALUE=DATE:20250918
SUMMARY:Zuschlag — Gemeinde Löcknitz - Fernmeldetechnik zum Ersatzneubau Region
DESCRIPTION:Phase: Zuschlag | Beschreibung: Vergabeergebnis — Auftrag wurde erteilt oder Verfahren beendet. | Link: https://ausschreibungsradar.com/ausschreibung/5f17a6f3-6841-4077-833b-3c60eae92448/
URL:https://ausschreibungsradar.com/ausschreibung/5f17a6f3-6841-4077-833b-3c60eae92448/
END:VEVENT
BEGIN:VEVENT
UID:7dcae68c93cd9858@ausschreibungsradar.com
DTSTAMP:20260423T214500Z
DTSTART;VALUE=DATE:20250918
DTEND;VALUE=DATE:20250918
SUMMARY:Zuschlag — Gemeinde Löcknitz - Fernmeldetechnik zum Ersatzneubau Region
DESCRIPTION:Phase: Zuschlag | Beschreibung: Vergabeergebnis — Auftrag wurde erteilt oder Verfahren beendet. | Link: https://ausschreibungsradar.com/ausschreibung/65b073b8-b963-4e53-8ada-f5fd5e331e29/
URL:https://ausschreibungsradar.com/ausschreibung/65b073b8-b963-4e53-8ada-f5fd5e331e29/
END:VEVENT
END:VCALENDAR
