BEGIN:VCALENDAR
VERSION:2.0
PRODID:-//AusschreibungsRadar//Timeline//DE
CALSCALE:GREGORIAN
METHOD:PUBLISH
X-WR-CALNAME:Projekt ZV - Kommunalbetriebe Neustadt GmbH - Wohnbebauung Märchenpa
X-WR-TIMEZONE:Europe/Berlin
BEGIN:VEVENT
UID:16edb713bd74596b@ausschreibungsradar.com
DTSTAMP:20260424T054654Z
DTSTART;VALUE=DATE:20251103
DTEND;VALUE=DATE:20251103
SUMMARY:Angebotsfrist — ZV - Kommunalbetriebe Neustadt GmbH - Wohnbebauung Märchenpa
DESCRIPTION:Phase: Ausschreibung | Beschreibung: Angebote werden eingeholt | Link: https://ausschreibungsradar.com/ausschreibung/34a5bbaf-f168-46a0-a676-e2258faddd40/
URL:https://ausschreibungsradar.com/ausschreibung/34a5bbaf-f168-46a0-a676-e2258faddd40/
END:VEVENT
BEGIN:VEVENT
UID:d1110bae6a29abec@ausschreibungsradar.com
DTSTAMP:20260424T054654Z
DTSTART;VALUE=DATE:20251208
DTEND;VALUE=DATE:20251208
SUMMARY:Zuschlag — ZV - Kommunalbetriebe Neustadt GmbH - Wohnbebauung Märchenpa
DESCRIPTION:Phase: Zuschlag | Beschreibung: Vergabeergebnis — Auftrag wurde erteilt oder Verfahren beendet. | Link: https://ausschreibungsradar.com/ausschreibung/b055456a-425a-45ad-93a3-b42e627f2660/
URL:https://ausschreibungsradar.com/ausschreibung/b055456a-425a-45ad-93a3-b42e627f2660/
END:VEVENT
BEGIN:VEVENT
UID:4d8cdd49f136ac6f@ausschreibungsradar.com
DTSTAMP:20260424T054654Z
DTSTART;VALUE=DATE:20251215
DTEND;VALUE=DATE:20251215
SUMMARY:Vergabeergebnis — ZV - Kommunalbetriebe Neustadt GmbH - Wohnbebauung Märchenpa
DESCRIPTION:Phase: Vergabeergebnis | Beschreibung: Auftrag wurde zugeschlagen | Link: https://ausschreibungsradar.com/ausschreibung/8f19af83-982d-4581-a642-cebcba28215c/
URL:https://ausschreibungsradar.com/ausschreibung/8f19af83-982d-4581-a642-cebcba28215c/
END:VEVENT
BEGIN:VEVENT
UID:9a0368372600d3d6@ausschreibungsradar.com
DTSTAMP:20260424T054654Z
DTSTART;VALUE=DATE:20260102
DTEND;VALUE=DATE:20260102
SUMMARY:Ausschreibung — ZV - Kommunalbetriebe Neustadt GmbH - Wohnbebauung Märchenpa
DESCRIPTION:Phase: Ausschreibung | Beschreibung: Offizielle Ausschreibung mit Bieterfrist. | Link: https://ausschreibungsradar.com/ausschreibung/3074330e-5afc-4cba-8a04-0eae4f34bf71/
URL:https://ausschreibungsradar.com/ausschreibung/3074330e-5afc-4cba-8a04-0eae4f34bf71/
END:VEVENT
BEGIN:VEVENT
UID:59b26d085e3e5707@ausschreibungsradar.com
DTSTAMP:20260424T054654Z
DTSTART;VALUE=DATE:20260105
DTEND;VALUE=DATE:20260105
SUMMARY:Ausschreibung — ZV - Kommunalbetriebe Neustadt GmbH - Wohnbebauung Märchenpa
DESCRIPTION:Phase: Ausschreibung | Beschreibung: Offizielle Ausschreibung mit Bieterfrist. | Link: https://ausschreibungsradar.com/ausschreibung/ac3cfb4f-1434-4231-85a7-3c7adee34d60/
URL:https://ausschreibungsradar.com/ausschreibung/ac3cfb4f-1434-4231-85a7-3c7adee34d60/
END:VEVENT
END:VCALENDAR
