BEGIN:VCALENDAR
VERSION:2.0
PRODID:-//AusschreibungsRadar//Timeline//DE
CALSCALE:GREGORIAN
METHOD:PUBLISH
X-WR-CALNAME:Projekt 23D312011_Bereitschaftspolizei und Polizeifachschule Chemnit
X-WR-TIMEZONE:Europe/Berlin
BEGIN:VEVENT
UID:d44b4ba1bb41cbb2@ausschreibungsradar.com
DTSTAMP:20260425T162347Z
DTSTART;VALUE=DATE:20240304
DTEND;VALUE=DATE:20240304
SUMMARY:Angebotsfrist — 23D312011_Bereitschaftspolizei und Polizeifachschule Chemnit
DESCRIPTION:Phase: Ausschreibung | Beschreibung: Angebote werden eingeholt | Link: https://ausschreibungsradar.com/ausschreibung/8f5039e9-177a-49c2-922d-1e48e429dc5b/
URL:https://ausschreibungsradar.com/ausschreibung/8f5039e9-177a-49c2-922d-1e48e429dc5b/
END:VEVENT
BEGIN:VEVENT
UID:4c529731bfe1f0b0@ausschreibungsradar.com
DTSTAMP:20260425T162347Z
DTSTART;VALUE=DATE:20240201
DTEND;VALUE=DATE:20240201
SUMMARY:Ausschreibung — 23D312011_Bereitschaftspolizei und Polizeifachschule Chemnit
DESCRIPTION:Phase: Ausschreibung | Beschreibung: Offizielle Ausschreibung mit Bieterfrist. | Link: https://ausschreibungsradar.com/ausschreibung/ted-67548-2024/
URL:https://ausschreibungsradar.com/ausschreibung/ted-67548-2024/
END:VEVENT
BEGIN:VEVENT
UID:7bc40468d3deeeb6@ausschreibungsradar.com
DTSTAMP:20260425T162347Z
DTSTART;VALUE=DATE:20240605
DTEND;VALUE=DATE:20240605
SUMMARY:Vergabeergebnis — 23D312011_Bereitschaftspolizei und Polizeifachschule Chemnit
DESCRIPTION:Phase: Vergabeergebnis | Beschreibung: Auftrag wurde zugeschlagen | Link: https://ausschreibungsradar.com/ausschreibung/dee6a25e-1545-41d9-983d-75da4a71bfc9/
URL:https://ausschreibungsradar.com/ausschreibung/dee6a25e-1545-41d9-983d-75da4a71bfc9/
END:VEVENT
END:VCALENDAR
