BEGIN:VCALENDAR
VERSION:2.0
PRODID:-//AusschreibungsRadar//Timeline//DE
CALSCALE:GREGORIAN
METHOD:PUBLISH
X-WR-CALNAME:Projekt Lieferung eines Hilfeleistungs-Löschgruppenfahrzeug HLF20, F
X-WR-TIMEZONE:Europe/Berlin
BEGIN:VEVENT
UID:82d2bddbe4847e3b@ausschreibungsradar.com
DTSTAMP:20260425T203848Z
DTSTART;VALUE=DATE:20250930
DTEND;VALUE=DATE:20250930
SUMMARY:Ausschreibung — Lieferung eines Hilfeleistungs-Löschgruppenfahrzeug HLF20\, F
DESCRIPTION:Phase: Ausschreibung | Beschreibung: Angebote werden eingeholt | Link: https://ausschreibungsradar.com/ausschreibung/8fca6127-2c47-44c0-ae30-72abc655de0e/
URL:https://ausschreibungsradar.com/ausschreibung/8fca6127-2c47-44c0-ae30-72abc655de0e/
END:VEVENT
BEGIN:VEVENT
UID:5125d6078e98c8c9@ausschreibungsradar.com
DTSTAMP:20260425T203848Z
DTSTART;VALUE=DATE:20260207
DTEND;VALUE=DATE:20260207
SUMMARY:Vergabeergebnis — Lieferung eines Hilfeleistungs-Löschgruppenfahrzeug HLF20\, F
DESCRIPTION:Phase: Vergabeergebnis | Beschreibung: Auftrag wurde zugeschlagen | Link: https://ausschreibungsradar.com/ausschreibung/de925c3d-960f-4e15-94b2-30a686d97c8b/ | Auftragnehmer: Rosenbauer Deutschland Gm
URL:https://ausschreibungsradar.com/ausschreibung/de925c3d-960f-4e15-94b2-30a686d97c8b/
END:VEVENT
END:VCALENDAR
