BEGIN:VCALENDAR
VERSION:2.0
PRODID:-//AusschreibungsRadar//Timeline//DE
CALSCALE:GREGORIAN
METHOD:PUBLISH
X-WR-CALNAME:Projekt Mutter-Kind-Zentrum Auf der Bult, Hannover - Heizung KJP
X-WR-TIMEZONE:Europe/Berlin
BEGIN:VEVENT
UID:caf0de4fa7802d4b@ausschreibungsradar.com
DTSTAMP:20260425T112148Z
DTSTART;VALUE=DATE:20240109
DTEND;VALUE=DATE:20240109
SUMMARY:Angebotsfrist — Mutter-Kind-Zentrum Auf der Bult\, Hannover - Heizung KJP
DESCRIPTION:Phase: Ausschreibung | Beschreibung: Angebote werden eingeholt | Link: https://ausschreibungsradar.com/ausschreibung/8fd4d2bd-62c9-4e7d-89c2-8cc4b8b6cf4b/ | Geschätzter Wert: 170000 €
URL:https://ausschreibungsradar.com/ausschreibung/8fd4d2bd-62c9-4e7d-89c2-8cc4b8b6cf4b/
END:VEVENT
BEGIN:VEVENT
UID:90ddf57a63675c4f@ausschreibungsradar.com
DTSTAMP:20260425T112148Z
DTSTART;VALUE=DATE:20231212
DTEND;VALUE=DATE:20231212
SUMMARY:Ausschreibung — Mutter-Kind-Zentrum Auf der Bult\, Hannover - Heizung KJP
DESCRIPTION:Phase: Ausschreibung | Beschreibung: Offizielle Ausschreibung mit Bieterfrist. | Link: https://ausschreibungsradar.com/ausschreibung/d8e4a376-3d92-42fc-bdd7-ae655061d4e1/
URL:https://ausschreibungsradar.com/ausschreibung/d8e4a376-3d92-42fc-bdd7-ae655061d4e1/
END:VEVENT
BEGIN:VEVENT
UID:2c244789846350a1@ausschreibungsradar.com
DTSTAMP:20260425T112148Z
DTSTART;VALUE=DATE:20231213
DTEND;VALUE=DATE:20231213
SUMMARY:Zuschlag — Mutter-Kind-Zentrum Auf der Bult\, Hannover - Heizung KJP
DESCRIPTION:Phase: Zuschlag | Beschreibung: Vergabeergebnis — Auftrag wurde erteilt oder Verfahren beendet. | Link: https://ausschreibungsradar.com/ausschreibung/58eb61c2-553a-44aa-a1ec-eb6518a95314/
URL:https://ausschreibungsradar.com/ausschreibung/58eb61c2-553a-44aa-a1ec-eb6518a95314/
END:VEVENT
BEGIN:VEVENT
UID:f62064dbb54d1c2c@ausschreibungsradar.com
DTSTAMP:20260425T112148Z
DTSTART;VALUE=DATE:20240319
DTEND;VALUE=DATE:20240319
SUMMARY:Vergabeergebnis — Mutter-Kind-Zentrum Auf der Bult\, Hannover - Heizung KJP
DESCRIPTION:Phase: Vergabeergebnis | Beschreibung: Auftrag wurde zugeschlagen | Link: https://ausschreibungsradar.com/ausschreibung/9efd8ff3-9153-403e-985c-85b5bd447518/ | Geschätzter Wert: 170000 €
URL:https://ausschreibungsradar.com/ausschreibung/9efd8ff3-9153-403e-985c-85b5bd447518/
END:VEVENT
END:VCALENDAR
