BEGIN:VCALENDAR
VERSION:2.0
PRODID:-//AusschreibungsRadar//Timeline//DE
CALSCALE:GREGORIAN
METHOD:PUBLISH
X-WR-CALNAME:Projekt Generalsanierung Grundschule Kirchroth - 07 Zimmerer- und Da
X-WR-TIMEZONE:Europe/Berlin
BEGIN:VEVENT
UID:ef5a563d573bb7bd@ausschreibungsradar.com
DTSTAMP:20260425T154003Z
DTSTART;VALUE=DATE:20240926
DTEND;VALUE=DATE:20240926
SUMMARY:Angebotsfrist — Generalsanierung Grundschule Kirchroth - 07 Zimmerer- und Da
DESCRIPTION:Phase: Ausschreibung | Beschreibung: Angebote werden eingeholt | Link: https://ausschreibungsradar.com/ausschreibung/321390ca-6ad4-4f5c-b3c5-fa3c86eb7456/
URL:https://ausschreibungsradar.com/ausschreibung/321390ca-6ad4-4f5c-b3c5-fa3c86eb7456/
END:VEVENT
BEGIN:VEVENT
UID:8c6ce99ae19502bb@ausschreibungsradar.com
DTSTAMP:20260425T154003Z
DTSTART;VALUE=DATE:20241104
DTEND;VALUE=DATE:20241104
SUMMARY:Ausschreibung — Generalsanierung Grundschule Kirchroth - 07 Zimmerer- und Da
DESCRIPTION:Phase: Ausschreibung | Beschreibung: Offizielle Ausschreibung mit Bieterfrist. | Link: https://ausschreibungsradar.com/ausschreibung/0bcf17ca-73cc-4f2e-9479-184dcf842f91/
URL:https://ausschreibungsradar.com/ausschreibung/0bcf17ca-73cc-4f2e-9479-184dcf842f91/
END:VEVENT
BEGIN:VEVENT
UID:350e8cf8afb5827f@ausschreibungsradar.com
DTSTAMP:20260425T154003Z
DTSTART;VALUE=DATE:20241120
DTEND;VALUE=DATE:20241120
SUMMARY:Vergabeergebnis — Generalsanierung Grundschule Kirchroth - 07 Zimmerer- und Da
DESCRIPTION:Phase: Vergabeergebnis | Beschreibung: Auftrag wurde zugeschlagen | Link: https://ausschreibungsradar.com/ausschreibung/8fea1fc8-0755-459c-8616-8e687fc24b3e/
URL:https://ausschreibungsradar.com/ausschreibung/8fea1fc8-0755-459c-8616-8e687fc24b3e/
END:VEVENT
BEGIN:VEVENT
UID:01e4bc2d232b914c@ausschreibungsradar.com
DTSTAMP:20260425T154003Z
DTSTART;VALUE=DATE:20241120
DTEND;VALUE=DATE:20241120
SUMMARY:Zuschlag — Generalsanierung Grundschule Kirchroth - 07 Zimmerer- und Da
DESCRIPTION:Phase: Zuschlag | Beschreibung: Vergabeergebnis — Auftrag wurde erteilt oder Verfahren beendet. | Link: https://ausschreibungsradar.com/ausschreibung/0565f76a-8a28-46f8-bc1c-7de8d97d135a/
URL:https://ausschreibungsradar.com/ausschreibung/0565f76a-8a28-46f8-bc1c-7de8d97d135a/
END:VEVENT
END:VCALENDAR
