BEGIN:VCALENDAR
VERSION:2.0
PRODID:-//AusschreibungsRadar//Timeline//DE
CALSCALE:GREGORIAN
METHOD:PUBLISH
X-WR-CALNAME:Projekt Los 6 Winterdienste Bereiche Altena, Werdohl, Neuenrade, KW 
X-WR-TIMEZONE:Europe/Berlin
BEGIN:VEVENT
UID:14990b3a02d63176@ausschreibungsradar.com
DTSTAMP:20260424T134310Z
DTSTART;VALUE=DATE:20240802
DTEND;VALUE=DATE:20240802
SUMMARY:Ausschreibung — Los 6 Winterdienste Bereiche Altena\, Werdohl\, Neuenrade\, KW 
DESCRIPTION:Phase: Ausschreibung | Beschreibung: Angebote werden eingeholt | Link: https://ausschreibungsradar.com/ausschreibung/de5ab34f-fd4a-4cd5-a1d6-a8b4f7427b87/
URL:https://ausschreibungsradar.com/ausschreibung/de5ab34f-fd4a-4cd5-a1d6-a8b4f7427b87/
END:VEVENT
BEGIN:VEVENT
UID:1af28178b34e86ab@ausschreibungsradar.com
DTSTAMP:20260424T134310Z
DTSTART;VALUE=DATE:20240903
DTEND;VALUE=DATE:20240903
SUMMARY:Vergabeergebnis — Los 6 Winterdienste Bereiche Altena\, Werdohl\, Neuenrade\, KW 
DESCRIPTION:Phase: Vergabeergebnis | Beschreibung: Verfahren noch offen | Link: https://ausschreibungsradar.com/ausschreibung/900848da-11a2-4f9b-9fa8-1d80c50dfcec/
URL:https://ausschreibungsradar.com/ausschreibung/900848da-11a2-4f9b-9fa8-1d80c50dfcec/
END:VEVENT
END:VCALENDAR
