BEGIN:VCALENDAR
VERSION:2.0
PRODID:-//AusschreibungsRadar//Timeline//DE
CALSCALE:GREGORIAN
METHOD:PUBLISH
X-WR-CALNAME:Projekt Versicherungsdienstleistungen
X-WR-TIMEZONE:Europe/Berlin
BEGIN:VEVENT
UID:c17e8edd6e9e0437@ausschreibungsradar.com
DTSTAMP:20260425T015625Z
DTSTART;VALUE=DATE:20241104
DTEND;VALUE=DATE:20241104
SUMMARY:Angebotsfrist — Versicherungsdienstleistungen
DESCRIPTION:Phase: Ausschreibung | Beschreibung: Angebote werden eingeholt | Link: https://ausschreibungsradar.com/ausschreibung/903ed5cf-d558-4305-9992-d4d48672fe40/
URL:https://ausschreibungsradar.com/ausschreibung/903ed5cf-d558-4305-9992-d4d48672fe40/
END:VEVENT
BEGIN:VEVENT
UID:08729a6b4f1fe300@ausschreibungsradar.com
DTSTAMP:20260425T015625Z
DTSTART;VALUE=DATE:20250122
DTEND;VALUE=DATE:20250122
SUMMARY:Vergabeergebnis — Versicherungsdienstleistungen
DESCRIPTION:Phase: Vergabeergebnis | Beschreibung: Auftrag wurde zugeschlagen | Link: https://ausschreibungsradar.com/ausschreibung/a0e724c6-05b9-47c1-90a4-56ae9d0fc543/
URL:https://ausschreibungsradar.com/ausschreibung/a0e724c6-05b9-47c1-90a4-56ae9d0fc543/
END:VEVENT
END:VCALENDAR
