BEGIN:VCALENDAR
VERSION:2.0
PRODID:-//AusschreibungsRadar//Timeline//DE
CALSCALE:GREGORIAN
METHOD:PUBLISH
X-WR-CALNAME:Projekt Welver - Anschluss der Ortsteile Berwicke und Stocklarn in W
X-WR-TIMEZONE:Europe/Berlin
BEGIN:VEVENT
UID:44cf9164bb6cb518@ausschreibungsradar.com
DTSTAMP:20260424T211611Z
DTSTART;VALUE=DATE:20250415
DTEND;VALUE=DATE:20250415
SUMMARY:Angebotsfrist — Welver - Anschluss der Ortsteile Berwicke und Stocklarn in W
DESCRIPTION:Phase: Ausschreibung | Beschreibung: Angebote werden eingeholt | Link: https://ausschreibungsradar.com/ausschreibung/89c60d8a-3025-4ac2-ba14-c5281ae8afa5/
URL:https://ausschreibungsradar.com/ausschreibung/89c60d8a-3025-4ac2-ba14-c5281ae8afa5/
END:VEVENT
BEGIN:VEVENT
UID:e982206457916f7a@ausschreibungsradar.com
DTSTAMP:20260424T211611Z
DTSTART;VALUE=DATE:20250501
DTEND;VALUE=DATE:20250501
SUMMARY:Vergabeergebnis — Welver - Anschluss der Ortsteile Berwicke und Stocklarn in W
DESCRIPTION:Phase: Vergabeergebnis | Beschreibung: Keine Angebote eingegangen | Link: https://ausschreibungsradar.com/ausschreibung/908085a9-bbd9-44d3-be2f-39570730f0b0/
URL:https://ausschreibungsradar.com/ausschreibung/908085a9-bbd9-44d3-be2f-39570730f0b0/
END:VEVENT
BEGIN:VEVENT
UID:53c1805acb566c0f@ausschreibungsradar.com
DTSTAMP:20260424T211611Z
DTSTART;VALUE=DATE:20250501
DTEND;VALUE=DATE:20250501
SUMMARY:Zuschlag — Welver - Anschluss der Ortsteile Berwicke und Stocklarn in W
DESCRIPTION:Phase: Zuschlag | Beschreibung: Vergabeergebnis — Auftrag wurde erteilt oder Verfahren beendet. | Link: https://ausschreibungsradar.com/ausschreibung/3aae9ea1-2e5d-48f0-a93b-33b8ee66674f/
URL:https://ausschreibungsradar.com/ausschreibung/3aae9ea1-2e5d-48f0-a93b-33b8ee66674f/
END:VEVENT
END:VCALENDAR
