BEGIN:VCALENDAR
VERSION:2.0
PRODID:-//AusschreibungsRadar//Timeline//DE
CALSCALE:GREGORIAN
METHOD:PUBLISH
X-WR-CALNAME:Projekt Gebäudereinigung Nordwalde
X-WR-TIMEZONE:Europe/Berlin
BEGIN:VEVENT
UID:e649ad978f9dc8e4@ausschreibungsradar.com
DTSTAMP:20260424T165946Z
DTSTART;VALUE=DATE:20240124
DTEND;VALUE=DATE:20240124
SUMMARY:Angebotsfrist — Gebäudereinigung Nordwalde
DESCRIPTION:Phase: Ausschreibung | Beschreibung: Angebote werden eingeholt | Link: https://ausschreibungsradar.com/ausschreibung/90ed18b5-53bd-462c-8e90-70d0c9fcc0ab/
URL:https://ausschreibungsradar.com/ausschreibung/90ed18b5-53bd-462c-8e90-70d0c9fcc0ab/
END:VEVENT
BEGIN:VEVENT
UID:ade4a9fe33eff8be@ausschreibungsradar.com
DTSTAMP:20260424T165946Z
DTSTART;VALUE=DATE:20240510
DTEND;VALUE=DATE:20240510
SUMMARY:Vergabeergebnis — Gebäudereinigung Nordwalde
DESCRIPTION:Phase: Vergabeergebnis | Beschreibung: Auftrag wurde zugeschlagen | Link: https://ausschreibungsradar.com/ausschreibung/5e71161e-2783-4c8a-a607-cd462cab6294/ | Auftragnehmer: Piepenbrock Dienstleistun
URL:https://ausschreibungsradar.com/ausschreibung/5e71161e-2783-4c8a-a607-cd462cab6294/
END:VEVENT
END:VCALENDAR
