BEGIN:VCALENDAR
VERSION:2.0
PRODID:-//AusschreibungsRadar//Timeline//DE
CALSCALE:GREGORIAN
METHOD:PUBLISH
X-WR-CALNAME:Projekt B 237n - Ortsumgehung Hückeswagen,  Objektplanung Verkehrsan
X-WR-TIMEZONE:Europe/Berlin
BEGIN:VEVENT
UID:2fe21c7aeb04180f@ausschreibungsradar.com
DTSTAMP:20260425T134914Z
DTSTART;VALUE=DATE:20240130
DTEND;VALUE=DATE:20240130
SUMMARY:Ausschreibung — B 237n - Ortsumgehung Hückeswagen\,  Objektplanung Verkehrsan
DESCRIPTION:Phase: Ausschreibung | Beschreibung: Angebote werden eingeholt | Link: https://ausschreibungsradar.com/ausschreibung/911e3df5-2274-4d82-9f29-3e6a9c20c9db/
URL:https://ausschreibungsradar.com/ausschreibung/911e3df5-2274-4d82-9f29-3e6a9c20c9db/
END:VEVENT
BEGIN:VEVENT
UID:051d08e54a127f22@ausschreibungsradar.com
DTSTAMP:20260425T134914Z
DTSTART;VALUE=DATE:20240201
DTEND;VALUE=DATE:20240201
SUMMARY:Ausschreibung — B 237n - Ortsumgehung Hückeswagen\,  Objektplanung Verkehrsan
DESCRIPTION:Phase: Ausschreibung | Beschreibung: Offizielle Ausschreibung mit Bieterfrist. | Link: https://ausschreibungsradar.com/ausschreibung/ted-66423-2024/
URL:https://ausschreibungsradar.com/ausschreibung/ted-66423-2024/
END:VEVENT
BEGIN:VEVENT
UID:0397381b113b4952@ausschreibungsradar.com
DTSTAMP:20260425T134914Z
DTSTART;VALUE=DATE:20240812
DTEND;VALUE=DATE:20240812
SUMMARY:Vergabeergebnis — B 237n - Ortsumgehung Hückeswagen\,  Objektplanung Verkehrsan
DESCRIPTION:Phase: Vergabeergebnis | Beschreibung: Auftrag wurde zugeschlagen | Link: https://ausschreibungsradar.com/ausschreibung/a653973f-2b63-4664-b2ba-27008885b801/
URL:https://ausschreibungsradar.com/ausschreibung/a653973f-2b63-4664-b2ba-27008885b801/
END:VEVENT
END:VCALENDAR
