BEGIN:VCALENDAR
VERSION:2.0
PRODID:-//AusschreibungsRadar//Timeline//DE
CALSCALE:GREGORIAN
METHOD:PUBLISH
X-WR-CALNAME:Projekt Lieferung von 5 Stadt-Niderflur-Solo-Omnibussen mit Dieselan
X-WR-TIMEZONE:Europe/Berlin
BEGIN:VEVENT
UID:384e74d7849902b8@ausschreibungsradar.com
DTSTAMP:20260426T005017Z
DTSTART;VALUE=DATE:20250122
DTEND;VALUE=DATE:20250122
SUMMARY:Ausschreibung — Lieferung von 5 Stadt-Niderflur-Solo-Omnibussen mit Dieselan
DESCRIPTION:Phase: Ausschreibung | Beschreibung: Angebote werden eingeholt | Link: https://ausschreibungsradar.com/ausschreibung/916187c2-9ff9-49a7-b913-b36ce06497ef/
URL:https://ausschreibungsradar.com/ausschreibung/916187c2-9ff9-49a7-b913-b36ce06497ef/
END:VEVENT
BEGIN:VEVENT
UID:3afdd2b28fcb0485@ausschreibungsradar.com
DTSTAMP:20260426T005017Z
DTSTART;VALUE=DATE:20250608
DTEND;VALUE=DATE:20250608
SUMMARY:Vergabeergebnis — Lieferung von 5 Stadt-Niderflur-Solo-Omnibussen mit Dieselan
DESCRIPTION:Phase: Vergabeergebnis | Beschreibung: Auftrag wurde zugeschlagen | Link: https://ausschreibungsradar.com/ausschreibung/dd7f7b08-c77f-4159-9cbc-1e5e874b4b80/ | Auftragnehmer: Daimler Buses GmbH\, 6830
URL:https://ausschreibungsradar.com/ausschreibung/dd7f7b08-c77f-4159-9cbc-1e5e874b4b80/
END:VEVENT
END:VCALENDAR
