BEGIN:VCALENDAR
VERSION:2.0
PRODID:-//AusschreibungsRadar//Timeline//DE
CALSCALE:GREGORIAN
METHOD:PUBLISH
X-WR-CALNAME:Projekt iHAST Los 3
X-WR-TIMEZONE:Europe/Berlin
BEGIN:VEVENT
UID:b2de63e456c52e29@ausschreibungsradar.com
DTSTAMP:20260424T113309Z
DTSTART;VALUE=DATE:20260421
DTEND;VALUE=DATE:20260421
SUMMARY:Angebotsfrist — iHAST Los 3
DESCRIPTION:Phase: Ausschreibung | Beschreibung: Angebote werden eingeholt | Link: https://ausschreibungsradar.com/ausschreibung/916323de-0516-4eae-889a-cc1d194670f3/ | Geschätzter Wert: 291000 €
URL:https://ausschreibungsradar.com/ausschreibung/916323de-0516-4eae-889a-cc1d194670f3/
END:VEVENT
END:VCALENDAR
