BEGIN:VCALENDAR
VERSION:2.0
PRODID:-//AusschreibungsRadar//Timeline//DE
CALSCALE:GREGORIAN
METHOD:PUBLISH
X-WR-CALNAME:Projekt Planungsleistungen, Fachplanung Altlasten-Freimachung, Rückb
X-WR-TIMEZONE:Europe/Berlin
BEGIN:VEVENT
UID:59629d81fc68e7d2@ausschreibungsradar.com
DTSTAMP:20260424T143826Z
DTSTART;VALUE=DATE:20240131
DTEND;VALUE=DATE:20240131
SUMMARY:Angebotsfrist — Planungsleistungen\, Fachplanung Altlasten-Freimachung\, Rückb
DESCRIPTION:Phase: Ausschreibung | Beschreibung: Angebote werden eingeholt | Link: https://ausschreibungsradar.com/ausschreibung/91f028aa-e31c-479d-a268-b8d06d99826f/ | Geschätzter Wert: 25000 €
URL:https://ausschreibungsradar.com/ausschreibung/91f028aa-e31c-479d-a268-b8d06d99826f/
END:VEVENT
END:VCALENDAR
