BEGIN:VCALENDAR
VERSION:2.0
PRODID:-//AusschreibungsRadar//Timeline//DE
CALSCALE:GREGORIAN
METHOD:PUBLISH
X-WR-CALNAME:Projekt Fahrzeugbeschaffungen swa-Konzern 
X-WR-TIMEZONE:Europe/Berlin
BEGIN:VEVENT
UID:768a6a9bd04204fb@ausschreibungsradar.com
DTSTAMP:20260425T015644Z
DTSTART;VALUE=DATE:20250512
DTEND;VALUE=DATE:20250512
SUMMARY:Angebotsfrist — Fahrzeugbeschaffungen swa-Konzern 
DESCRIPTION:Phase: Ausschreibung | Beschreibung: Angebote werden eingeholt | Link: https://ausschreibungsradar.com/ausschreibung/92032fc8-b9e0-462c-a082-829bd7a2b001/
URL:https://ausschreibungsradar.com/ausschreibung/92032fc8-b9e0-462c-a082-829bd7a2b001/
END:VEVENT
BEGIN:VEVENT
UID:b3500f853a23da56@ausschreibungsradar.com
DTSTAMP:20260425T015644Z
DTSTART;VALUE=DATE:20251009
DTEND;VALUE=DATE:20251009
SUMMARY:Vergabeergebnis — Fahrzeugbeschaffungen swa-Konzern 
DESCRIPTION:Phase: Vergabeergebnis | Beschreibung: Auftrag wurde zugeschlagen | Link: https://ausschreibungsradar.com/ausschreibung/209cc2e7-2462-46d4-882e-0eacc6eff6d7/ | Auftragnehmer: Windhoff Bahn- und Anlage
URL:https://ausschreibungsradar.com/ausschreibung/209cc2e7-2462-46d4-882e-0eacc6eff6d7/
END:VEVENT
END:VCALENDAR
