BEGIN:VCALENDAR
VERSION:2.0
PRODID:-//AusschreibungsRadar//Timeline//DE
CALSCALE:GREGORIAN
METHOD:PUBLISH
X-WR-CALNAME:Projekt Software zur Veranlagungsverwaltung in der Abfallwirtschaft
X-WR-TIMEZONE:Europe/Berlin
BEGIN:VEVENT
UID:a5e20f0f143b056c@ausschreibungsradar.com
DTSTAMP:20260424T202055Z
DTSTART;VALUE=DATE:20250114
DTEND;VALUE=DATE:20250114
SUMMARY:Ausschreibung — Software zur Veranlagungsverwaltung in der Abfallwirtschaft
DESCRIPTION:Phase: Ausschreibung | Beschreibung: Angebote werden eingeholt | Link: https://ausschreibungsradar.com/ausschreibung/920f7f79-1b86-4c88-b8eb-50e0f83c73f3/
URL:https://ausschreibungsradar.com/ausschreibung/920f7f79-1b86-4c88-b8eb-50e0f83c73f3/
END:VEVENT
BEGIN:VEVENT
UID:558d2d4bc0f3ea80@ausschreibungsradar.com
DTSTAMP:20260424T202055Z
DTSTART;VALUE=DATE:20250114
DTEND;VALUE=DATE:20250114
SUMMARY:Ausschreibung — Software zur Veranlagungsverwaltung in der Abfallwirtschaft
DESCRIPTION:Phase: Ausschreibung | Beschreibung: Offizielle Ausschreibung mit Bieterfrist. | Link: https://ausschreibungsradar.com/ausschreibung/a04f71c6-7ac7-4e25-8b7e-30d6b80712bf/
URL:https://ausschreibungsradar.com/ausschreibung/a04f71c6-7ac7-4e25-8b7e-30d6b80712bf/
END:VEVENT
END:VCALENDAR
