BEGIN:VCALENDAR
VERSION:2.0
PRODID:-//AusschreibungsRadar//Timeline//DE
CALSCALE:GREGORIAN
METHOD:PUBLISH
X-WR-CALNAME:Projekt Beschaffung eines neuen ERP-Systems
X-WR-TIMEZONE:Europe/Berlin
BEGIN:VEVENT
UID:c43d4e92dd5385d3@ausschreibungsradar.com
DTSTAMP:20260424T092857Z
DTSTART;VALUE=DATE:20250620
DTEND;VALUE=DATE:20250620
SUMMARY:Ausschreibung — Beschaffung eines neuen ERP-Systems
DESCRIPTION:Phase: Ausschreibung | Beschreibung: Angebote werden eingeholt | Link: https://ausschreibungsradar.com/ausschreibung/921c5788-fff2-49cd-93ec-59eb7bdbac1f/
URL:https://ausschreibungsradar.com/ausschreibung/921c5788-fff2-49cd-93ec-59eb7bdbac1f/
END:VEVENT
BEGIN:VEVENT
UID:3dcb51225381401f@ausschreibungsradar.com
DTSTAMP:20260424T092857Z
DTSTART;VALUE=DATE:20251006
DTEND;VALUE=DATE:20251006
SUMMARY:Vergabeergebnis — Beschaffung eines neuen ERP-Systems
DESCRIPTION:Phase: Vergabeergebnis | Beschreibung: Auftrag wurde zugeschlagen | Link: https://ausschreibungsradar.com/ausschreibung/636e65d5-7cc4-4932-a4ee-09b9a41caaf2/
URL:https://ausschreibungsradar.com/ausschreibung/636e65d5-7cc4-4932-a4ee-09b9a41caaf2/
END:VEVENT
END:VCALENDAR
