BEGIN:VCALENDAR
VERSION:2.0
PRODID:-//AusschreibungsRadar//Timeline//DE
CALSCALE:GREGORIAN
METHOD:PUBLISH
X-WR-CALNAME:Projekt Los 24 Bauendreinigung - Neubau integrierte Leitstelle für d
X-WR-TIMEZONE:Europe/Berlin
BEGIN:VEVENT
UID:ae74d9f18ae2a36d@ausschreibungsradar.com
DTSTAMP:20260425T143507Z
DTSTART;VALUE=DATE:20251106
DTEND;VALUE=DATE:20251106
SUMMARY:Angebotsfrist — Los 24 Bauendreinigung - Neubau integrierte Leitstelle für d
DESCRIPTION:Phase: Ausschreibung | Beschreibung: Angebote werden eingeholt | Link: https://ausschreibungsradar.com/ausschreibung/a97d012e-1ed1-481c-936d-9ec1b2e36e83/
URL:https://ausschreibungsradar.com/ausschreibung/a97d012e-1ed1-481c-936d-9ec1b2e36e83/
END:VEVENT
BEGIN:VEVENT
UID:5b17b1fed8a05a18@ausschreibungsradar.com
DTSTAMP:20260425T143507Z
DTSTART;VALUE=DATE:20251216
DTEND;VALUE=DATE:20251216
SUMMARY:Vergabeergebnis — Los 24 Bauendreinigung - Neubau integrierte Leitstelle für d
DESCRIPTION:Phase: Vergabeergebnis | Beschreibung: Auftrag wurde zugeschlagen | Link: https://ausschreibungsradar.com/ausschreibung/925068bb-3553-4ffc-91ea-176d874cda29/
URL:https://ausschreibungsradar.com/ausschreibung/925068bb-3553-4ffc-91ea-176d874cda29/
END:VEVENT
END:VCALENDAR
