BEGIN:VCALENDAR
VERSION:2.0
PRODID:-//AusschreibungsRadar//Timeline//DE
CALSCALE:GREGORIAN
METHOD:PUBLISH
X-WR-CALNAME:Projekt Neukonzeption ZOB Nürtingen, Planungsleistungen, Los 2 - Tec
X-WR-TIMEZONE:Europe/Berlin
BEGIN:VEVENT
UID:0f13bc6fa333ce7c@ausschreibungsradar.com
DTSTAMP:20260425T221235Z
DTSTART;VALUE=DATE:20250724
DTEND;VALUE=DATE:20250724
SUMMARY:Ausschreibung — Neukonzeption ZOB Nürtingen\, Planungsleistungen\, Los 2 - Tec
DESCRIPTION:Phase: Ausschreibung | Beschreibung: Angebote werden eingeholt | Link: https://ausschreibungsradar.com/ausschreibung/926fdca3-4309-4f9f-9461-941cda17e5c0/
URL:https://ausschreibungsradar.com/ausschreibung/926fdca3-4309-4f9f-9461-941cda17e5c0/
END:VEVENT
BEGIN:VEVENT
UID:5ab9931645224b6f@ausschreibungsradar.com
DTSTAMP:20260425T221235Z
DTSTART;VALUE=DATE:20251114
DTEND;VALUE=DATE:20251114
SUMMARY:Vergabeergebnis — Neukonzeption ZOB Nürtingen\, Planungsleistungen\, Los 2 - Tec
DESCRIPTION:Phase: Vergabeergebnis | Beschreibung: Auftrag wurde zugeschlagen | Link: https://ausschreibungsradar.com/ausschreibung/9b9548cb-7620-458c-9b9a-b935f8558400/
URL:https://ausschreibungsradar.com/ausschreibung/9b9548cb-7620-458c-9b9a-b935f8558400/
END:VEVENT
END:VCALENDAR
