BEGIN:VCALENDAR
VERSION:2.0
PRODID:-//AusschreibungsRadar//Timeline//DE
CALSCALE:GREGORIAN
METHOD:PUBLISH
X-WR-CALNAME:Projekt Glückauf Sporthalle (Sanierung Hallenboden), Objektplanung G
X-WR-TIMEZONE:Europe/Berlin
BEGIN:VEVENT
UID:b92dac1844244508@ausschreibungsradar.com
DTSTAMP:20260425T160647Z
DTSTART;VALUE=DATE:20251216
DTEND;VALUE=DATE:20251216
SUMMARY:Angebotsfrist — Glückauf Sporthalle (Sanierung Hallenboden)\, Objektplanung G
DESCRIPTION:Phase: Ausschreibung | Beschreibung: Angebote werden eingeholt | Link: https://ausschreibungsradar.com/ausschreibung/3f7eb258-7c04-4a5a-b736-225b5288508c/
URL:https://ausschreibungsradar.com/ausschreibung/3f7eb258-7c04-4a5a-b736-225b5288508c/
END:VEVENT
BEGIN:VEVENT
UID:c01d9430ca0fdff7@ausschreibungsradar.com
DTSTAMP:20260425T160647Z
DTSTART;VALUE=DATE:20260213
DTEND;VALUE=DATE:20260213
SUMMARY:Vergabeergebnis — Glückauf Sporthalle (Sanierung Hallenboden)\, Objektplanung G
DESCRIPTION:Phase: Vergabeergebnis | Beschreibung: Auftrag wurde zugeschlagen | Link: https://ausschreibungsradar.com/ausschreibung/92be5bb8-49c5-4c57-be6f-c3531be490a7/
URL:https://ausschreibungsradar.com/ausschreibung/92be5bb8-49c5-4c57-be6f-c3531be490a7/
END:VEVENT
END:VCALENDAR
