BEGIN:VCALENDAR
VERSION:2.0
PRODID:-//AusschreibungsRadar//Timeline//DE
CALSCALE:GREGORIAN
METHOD:PUBLISH
X-WR-CALNAME:Projekt Offenes Verfahren (EU-weit) zur Vergabe von Gebäudereinigung
X-WR-TIMEZONE:Europe/Berlin
BEGIN:VEVENT
UID:0043825b103fec91@ausschreibungsradar.com
DTSTAMP:20260425T181011Z
DTSTART;VALUE=DATE:20250415
DTEND;VALUE=DATE:20250415
SUMMARY:Ausschreibung — Offenes Verfahren (EU-weit) zur Vergabe von Gebäudereinigung
DESCRIPTION:Phase: Ausschreibung | Beschreibung: Angebote werden eingeholt | Link: https://ausschreibungsradar.com/ausschreibung/486dcba1-f0bf-40f7-8582-71c62fe79fc7/
URL:https://ausschreibungsradar.com/ausschreibung/486dcba1-f0bf-40f7-8582-71c62fe79fc7/
END:VEVENT
BEGIN:VEVENT
UID:b78f42b9ce4a81aa@ausschreibungsradar.com
DTSTAMP:20260425T181011Z
DTSTART;VALUE=DATE:20251103
DTEND;VALUE=DATE:20251103
SUMMARY:Vergabeergebnis — Offenes Verfahren (EU-weit) zur Vergabe von Gebäudereinigung
DESCRIPTION:Phase: Vergabeergebnis | Beschreibung: Auftrag wurde zugeschlagen | Link: https://ausschreibungsradar.com/ausschreibung/92f0ad7c-fddb-439f-bd18-ee8bf5de3a94/
URL:https://ausschreibungsradar.com/ausschreibung/92f0ad7c-fddb-439f-bd18-ee8bf5de3a94/
END:VEVENT
BEGIN:VEVENT
UID:320d57e97dbdc3d0@ausschreibungsradar.com
DTSTAMP:20260425T181011Z
DTSTART;VALUE=DATE:20251118
DTEND;VALUE=DATE:20251118
SUMMARY:Ausschreibung — Offenes Verfahren (EU-weit) zur Vergabe von Gebäudereinigung
DESCRIPTION:Phase: Ausschreibung | Beschreibung: Offizielle Ausschreibung mit Bieterfrist. | Link: https://ausschreibungsradar.com/ausschreibung/8e56a76e-37c4-414a-a2fc-a1549171b859/
URL:https://ausschreibungsradar.com/ausschreibung/8e56a76e-37c4-414a-a2fc-a1549171b859/
END:VEVENT
END:VCALENDAR
