BEGIN:VCALENDAR
VERSION:2.0
PRODID:-//AusschreibungsRadar//Timeline//DE
CALSCALE:GREGORIAN
METHOD:PUBLISH
X-WR-CALNAME:Projekt Estrich -2025Blühwiese - Errichtung einer Kindertagesstätte
X-WR-TIMEZONE:Europe/Berlin
BEGIN:VEVENT
UID:44609a00cf3130ab@ausschreibungsradar.com
DTSTAMP:20260425T110621Z
DTSTART;VALUE=DATE:20250807
DTEND;VALUE=DATE:20250807
SUMMARY:Angebotsfrist — Estrich -2025Blühwiese - Errichtung einer Kindertagesstätte
DESCRIPTION:Phase: Ausschreibung | Beschreibung: Angebote werden eingeholt | Link: https://ausschreibungsradar.com/ausschreibung/705ca322-8ede-48fd-8698-fae1ce74975c/ | Geschätzter Wert: 73835 €
URL:https://ausschreibungsradar.com/ausschreibung/705ca322-8ede-48fd-8698-fae1ce74975c/
END:VEVENT
BEGIN:VEVENT
UID:e946613cc91b9ef5@ausschreibungsradar.com
DTSTAMP:20260425T110621Z
DTSTART;VALUE=DATE:20250820
DTEND;VALUE=DATE:20250820
SUMMARY:Zuschlag — Estrich -2025Blühwiese - Errichtung einer Kindertagesstätte
DESCRIPTION:Phase: Zuschlag | Beschreibung: Vergabeergebnis — Auftrag wurde erteilt oder Verfahren beendet. | Link: https://ausschreibungsradar.com/ausschreibung/8c498860-b04b-403d-b099-4fa7af9280e7/
URL:https://ausschreibungsradar.com/ausschreibung/8c498860-b04b-403d-b099-4fa7af9280e7/
END:VEVENT
BEGIN:VEVENT
UID:5d27842fd03d816a@ausschreibungsradar.com
DTSTAMP:20260425T110621Z
DTSTART;VALUE=DATE:20250820
DTEND;VALUE=DATE:20250820
SUMMARY:Ausschreibung — Estrich -2025Blühwiese - Errichtung einer Kindertagesstätte
DESCRIPTION:Phase: Ausschreibung | Beschreibung: Offizielle Ausschreibung mit Bieterfrist. | Link: https://ausschreibungsradar.com/ausschreibung/e56269ff-2dcb-4817-9397-15453808b98a/
URL:https://ausschreibungsradar.com/ausschreibung/e56269ff-2dcb-4817-9397-15453808b98a/
END:VEVENT
BEGIN:VEVENT
UID:d8359eeaf544527e@ausschreibungsradar.com
DTSTAMP:20260425T110621Z
DTSTART;VALUE=DATE:20250915
DTEND;VALUE=DATE:20250915
SUMMARY:Vergabeergebnis — Estrich -2025Blühwiese - Errichtung einer Kindertagesstätte
DESCRIPTION:Phase: Vergabeergebnis | Beschreibung: Auftrag wurde zugeschlagen | Link: https://ausschreibungsradar.com/ausschreibung/931a8c5b-219e-4c22-ad22-669cb79c7ff8/ | Auftragnehmer: FBS GmbH | Geschätzter We
URL:https://ausschreibungsradar.com/ausschreibung/931a8c5b-219e-4c22-ad22-669cb79c7ff8/
END:VEVENT
END:VCALENDAR
