BEGIN:VCALENDAR
VERSION:2.0
PRODID:-//AusschreibungsRadar//Timeline//DE
CALSCALE:GREGORIAN
METHOD:PUBLISH
X-WR-CALNAME:Projekt Neubau Vitos KJK Marburg - Raumlufttechnik
X-WR-TIMEZONE:Europe/Berlin
BEGIN:VEVENT
UID:8e20b2aeeb4bcd11@ausschreibungsradar.com
DTSTAMP:20260424T081748Z
DTSTART;VALUE=DATE:20251127
DTEND;VALUE=DATE:20251127
SUMMARY:Angebotsfrist — Neubau Vitos KJK Marburg - Raumlufttechnik
DESCRIPTION:Phase: Ausschreibung | Beschreibung: Angebote werden eingeholt | Link: https://ausschreibungsradar.com/ausschreibung/938941b3-40c7-45e2-a2ba-13089e707e14/
URL:https://ausschreibungsradar.com/ausschreibung/938941b3-40c7-45e2-a2ba-13089e707e14/
END:VEVENT
BEGIN:VEVENT
UID:3a9015499b33cfa8@ausschreibungsradar.com
DTSTAMP:20260424T081748Z
DTSTART;VALUE=DATE:20251010
DTEND;VALUE=DATE:20251010
SUMMARY:Ausschreibung — Neubau Vitos KJK Marburg - Raumlufttechnik
DESCRIPTION:Phase: Ausschreibung | Beschreibung: Offizielle Ausschreibung mit Bieterfrist. | Link: https://ausschreibungsradar.com/ausschreibung/3fc246e0-7518-4c4d-8d36-fadee462ce29/
URL:https://ausschreibungsradar.com/ausschreibung/3fc246e0-7518-4c4d-8d36-fadee462ce29/
END:VEVENT
BEGIN:VEVENT
UID:bb2276da8a7c5305@ausschreibungsradar.com
DTSTAMP:20260424T081748Z
DTSTART;VALUE=DATE:20260106
DTEND;VALUE=DATE:20260106
SUMMARY:Vergabeergebnis — Neubau Vitos KJK Marburg - Raumlufttechnik
DESCRIPTION:Phase: Vergabeergebnis | Beschreibung: Auftrag wurde zugeschlagen | Link: https://ausschreibungsradar.com/ausschreibung/cbed715a-77ee-4623-8160-8e5882ec9ea1/
URL:https://ausschreibungsradar.com/ausschreibung/cbed715a-77ee-4623-8160-8e5882ec9ea1/
END:VEVENT
END:VCALENDAR
