BEGIN:VCALENDAR
VERSION:2.0
PRODID:-//AusschreibungsRadar//Timeline//DE
CALSCALE:GREGORIAN
METHOD:PUBLISH
X-WR-CALNAME:Projekt Elektro - Kirberger Hof
X-WR-TIMEZONE:Europe/Berlin
BEGIN:VEVENT
UID:6a20476fd6517c50@ausschreibungsradar.com
DTSTAMP:20260426T021331Z
DTSTART;VALUE=DATE:20251013
DTEND;VALUE=DATE:20251013
SUMMARY:Angebotsfrist — Elektro - Kirberger Hof
DESCRIPTION:Phase: Ausschreibung | Beschreibung: Angebote werden eingeholt | Link: https://ausschreibungsradar.com/ausschreibung/c442ad3b-899e-467d-bcc5-645d0f28b585/
URL:https://ausschreibungsradar.com/ausschreibung/c442ad3b-899e-467d-bcc5-645d0f28b585/
END:VEVENT
BEGIN:VEVENT
UID:693cdc1d7353ca60@ausschreibungsradar.com
DTSTAMP:20260426T021331Z
DTSTART;VALUE=DATE:20251128
DTEND;VALUE=DATE:20251128
SUMMARY:Vergabeergebnis — Elektro - Kirberger Hof
DESCRIPTION:Phase: Vergabeergebnis | Beschreibung: Auftrag wurde zugeschlagen | Link: https://ausschreibungsradar.com/ausschreibung/93bc06ef-87ba-4d09-a229-3311018c44eb/
URL:https://ausschreibungsradar.com/ausschreibung/93bc06ef-87ba-4d09-a229-3311018c44eb/
END:VEVENT
END:VCALENDAR
