BEGIN:VCALENDAR
VERSION:2.0
PRODID:-//AusschreibungsRadar//Timeline//DE
CALSCALE:GREGORIAN
METHOD:PUBLISH
X-WR-CALNAME:Projekt FreiKarte
X-WR-TIMEZONE:Europe/Berlin
BEGIN:VEVENT
UID:71392d72e2fa0bbf@ausschreibungsradar.com
DTSTAMP:20260425T110724Z
DTSTART;VALUE=DATE:20231121
DTEND;VALUE=DATE:20231121
SUMMARY:Ausschreibung — FreiKarte
DESCRIPTION:Phase: Ausschreibung | Beschreibung: Angebote werden eingeholt | Link: https://ausschreibungsradar.com/ausschreibung/93c9552c-909d-4824-a2bd-cc26383600d2/
URL:https://ausschreibungsradar.com/ausschreibung/93c9552c-909d-4824-a2bd-cc26383600d2/
END:VEVENT
BEGIN:VEVENT
UID:298fc1d3970e932e@ausschreibungsradar.com
DTSTAMP:20260425T110724Z
DTSTART;VALUE=DATE:20231121
DTEND;VALUE=DATE:20231121
SUMMARY:Ausschreibung — FreiKarte
DESCRIPTION:Phase: Ausschreibung | Beschreibung: Offizielle Ausschreibung mit Bieterfrist. | Link: https://ausschreibungsradar.com/ausschreibung/14a4c15b-b9a9-458a-8efa-12399adeab4a/
URL:https://ausschreibungsradar.com/ausschreibung/14a4c15b-b9a9-458a-8efa-12399adeab4a/
END:VEVENT
BEGIN:VEVENT
UID:67d490a2cea42635@ausschreibungsradar.com
DTSTAMP:20260425T110724Z
DTSTART;VALUE=DATE:20240227
DTEND;VALUE=DATE:20240227
SUMMARY:Vergabeergebnis — FreiKarte
DESCRIPTION:Phase: Vergabeergebnis | Beschreibung: Auftrag wurde zugeschlagen | Link: https://ausschreibungsradar.com/ausschreibung/690a248d-9f1c-4b92-9de6-393143858427/
URL:https://ausschreibungsradar.com/ausschreibung/690a248d-9f1c-4b92-9de6-393143858427/
END:VEVENT
END:VCALENDAR
