BEGIN:VCALENDAR
VERSION:2.0
PRODID:-//AusschreibungsRadar//Timeline//DE
CALSCALE:GREGORIAN
METHOD:PUBLISH
X-WR-CALNAME:Projekt Los 4-10 Elektroarbeiten-Erweiterung und Sanierung Schulstan
X-WR-TIMEZONE:Europe/Berlin
BEGIN:VEVENT
UID:0ec90db9d61c0dbe@ausschreibungsradar.com
DTSTAMP:20260424T041835Z
DTSTART;VALUE=DATE:20260318
DTEND;VALUE=DATE:20260318
SUMMARY:Angebotsfrist — Los 4-10 Elektroarbeiten-Erweiterung und Sanierung Schulstan
DESCRIPTION:Phase: Ausschreibung | Beschreibung: Angebote werden eingeholt | Link: https://ausschreibungsradar.com/ausschreibung/93cac9ed-78a6-4c47-ae85-08d7f0fcc59f/
URL:https://ausschreibungsradar.com/ausschreibung/93cac9ed-78a6-4c47-ae85-08d7f0fcc59f/
END:VEVENT
END:VCALENDAR
