BEGIN:VCALENDAR
VERSION:2.0
PRODID:-//AusschreibungsRadar//Timeline//DE
CALSCALE:GREGORIAN
METHOD:PUBLISH
X-WR-CALNAME:Projekt Schülerbeförderung Saaletal-Schule Bad Kissingen 
X-WR-TIMEZONE:Europe/Berlin
BEGIN:VEVENT
UID:4dbd40525d39e7c4@ausschreibungsradar.com
DTSTAMP:20260425T194315Z
DTSTART;VALUE=DATE:20250521
DTEND;VALUE=DATE:20250521
SUMMARY:Angebotsfrist — Schülerbeförderung Saaletal-Schule Bad Kissingen 
DESCRIPTION:Phase: Ausschreibung | Beschreibung: Angebote werden eingeholt | Link: https://ausschreibungsradar.com/ausschreibung/99f83112-ef15-4eaa-b9a1-fc9486202ce5/
URL:https://ausschreibungsradar.com/ausschreibung/99f83112-ef15-4eaa-b9a1-fc9486202ce5/
END:VEVENT
BEGIN:VEVENT
UID:043061025dd189fb@ausschreibungsradar.com
DTSTAMP:20260425T194315Z
DTSTART;VALUE=DATE:20250728
DTEND;VALUE=DATE:20250728
SUMMARY:Vergabeergebnis — Schülerbeförderung Saaletal-Schule Bad Kissingen 
DESCRIPTION:Phase: Vergabeergebnis | Beschreibung: Auftrag wurde zugeschlagen | Link: https://ausschreibungsradar.com/ausschreibung/94221c4a-469d-4185-9a91-a9be123bce02/
URL:https://ausschreibungsradar.com/ausschreibung/94221c4a-469d-4185-9a91-a9be123bce02/
END:VEVENT
END:VCALENDAR
