BEGIN:VCALENDAR
VERSION:2.0
PRODID:-//AusschreibungsRadar//Timeline//DE
CALSCALE:GREGORIAN
METHOD:PUBLISH
X-WR-CALNAME:Projekt HWGK-F Vermessung Oberer Kocher
X-WR-TIMEZONE:Europe/Berlin
BEGIN:VEVENT
UID:f70ddc5621dc389c@ausschreibungsradar.com
DTSTAMP:20260425T173148Z
DTSTART;VALUE=DATE:20251202
DTEND;VALUE=DATE:20251202
SUMMARY:Angebotsfrist — HWGK-F Vermessung Oberer Kocher
DESCRIPTION:Phase: Ausschreibung | Beschreibung: Angebote werden eingeholt | Link: https://ausschreibungsradar.com/ausschreibung/947b8ee2-9bfd-47ec-9177-3aff9b72f9df/
URL:https://ausschreibungsradar.com/ausschreibung/947b8ee2-9bfd-47ec-9177-3aff9b72f9df/
END:VEVENT
END:VCALENDAR
