BEGIN:VCALENDAR
VERSION:2.0
PRODID:-//AusschreibungsRadar//Timeline//DE
CALSCALE:GREGORIAN
METHOD:PUBLISH
X-WR-CALNAME:Projekt Erweiterung Julius-Leber-Schule Breisach am Rhein- Lüftungsa
X-WR-TIMEZONE:Europe/Berlin
BEGIN:VEVENT
UID:3f0da91eb3764d59@ausschreibungsradar.com
DTSTAMP:20260425T151631Z
DTSTART;VALUE=DATE:20260120
DTEND;VALUE=DATE:20260120
SUMMARY:Angebotsfrist — Erweiterung Julius-Leber-Schule Breisach am Rhein- Lüftungsa
DESCRIPTION:Phase: Ausschreibung | Beschreibung: Angebote werden eingeholt | Link: https://ausschreibungsradar.com/ausschreibung/94cafe27-d4c0-4a57-97c8-a41529e6afec/
URL:https://ausschreibungsradar.com/ausschreibung/94cafe27-d4c0-4a57-97c8-a41529e6afec/
END:VEVENT
BEGIN:VEVENT
UID:c03ea2bc797b072b@ausschreibungsradar.com
DTSTAMP:20260425T151631Z
DTSTART;VALUE=DATE:20251117
DTEND;VALUE=DATE:20251117
SUMMARY:Ausschreibung — Erweiterung Julius-Leber-Schule Breisach am Rhein- Lüftungsa
DESCRIPTION:Phase: Ausschreibung | Beschreibung: Offizielle Ausschreibung mit Bieterfrist. | Link: https://ausschreibungsradar.com/ausschreibung/d2e352c5-4396-417a-81dd-35ce4f327fe3/
URL:https://ausschreibungsradar.com/ausschreibung/d2e352c5-4396-417a-81dd-35ce4f327fe3/
END:VEVENT
BEGIN:VEVENT
UID:2c8ac8d701a6a221@ausschreibungsradar.com
DTSTAMP:20260425T151631Z
DTSTART;VALUE=DATE:20260326
DTEND;VALUE=DATE:20260326
SUMMARY:Vergabeergebnis — Erweiterung Julius-Leber-Schule Breisach am Rhein- Lüftungsa
DESCRIPTION:Phase: Vergabeergebnis | Beschreibung: Auftrag wurde zugeschlagen | Link: https://ausschreibungsradar.com/ausschreibung/bcf7692e-97c5-42d3-a772-4d677396d0a1/
URL:https://ausschreibungsradar.com/ausschreibung/bcf7692e-97c5-42d3-a772-4d677396d0a1/
END:VEVENT
END:VCALENDAR
