BEGIN:VCALENDAR
VERSION:2.0
PRODID:-//AusschreibungsRadar//Timeline//DE
CALSCALE:GREGORIAN
METHOD:PUBLISH
X-WR-CALNAME:Projekt Sanierung Kirchberghalle
X-WR-TIMEZONE:Europe/Berlin
BEGIN:VEVENT
UID:e1ecf719d8357c0e@ausschreibungsradar.com
DTSTAMP:20260426T022128Z
DTSTART;VALUE=DATE:20251030
DTEND;VALUE=DATE:20251030
SUMMARY:Ausschreibung — Sanierung Kirchberghalle
DESCRIPTION:Phase: Ausschreibung | Beschreibung: Angebote werden eingeholt | Link: https://ausschreibungsradar.com/ausschreibung/c843330f-3e88-4668-a61b-60dad7bfd72b/
URL:https://ausschreibungsradar.com/ausschreibung/c843330f-3e88-4668-a61b-60dad7bfd72b/
END:VEVENT
BEGIN:VEVENT
UID:c0a6850e9815965a@ausschreibungsradar.com
DTSTAMP:20260426T022128Z
DTSTART;VALUE=DATE:20260122
DTEND;VALUE=DATE:20260122
SUMMARY:Vergabeergebnis — Sanierung Kirchberghalle
DESCRIPTION:Phase: Vergabeergebnis | Beschreibung: Auftrag wurde zugeschlagen | Link: https://ausschreibungsradar.com/ausschreibung/94d9f0fd-3140-4347-a359-401a02fb8ed5/
URL:https://ausschreibungsradar.com/ausschreibung/94d9f0fd-3140-4347-a359-401a02fb8ed5/
END:VEVENT
BEGIN:VEVENT
UID:37c7391f95954ab1@ausschreibungsradar.com
DTSTAMP:20260426T022128Z
DTSTART;VALUE=DATE:20260219
DTEND;VALUE=DATE:20260219
SUMMARY:Ausschreibung — Sanierung Kirchberghalle
DESCRIPTION:Phase: Ausschreibung | Beschreibung: Offizielle Ausschreibung mit Bieterfrist. | Link: https://ausschreibungsradar.com/ausschreibung/a2e8dd26-8860-46fd-b0f3-85587fde6a6a/
URL:https://ausschreibungsradar.com/ausschreibung/a2e8dd26-8860-46fd-b0f3-85587fde6a6a/
END:VEVENT
END:VCALENDAR
