BEGIN:VCALENDAR
VERSION:2.0
PRODID:-//AusschreibungsRadar//Timeline//DE
CALSCALE:GREGORIAN
METHOD:PUBLISH
X-WR-CALNAME:Projekt Verbundprojektleitung für die HISinOne-Einführung
X-WR-TIMEZONE:Europe/Berlin
BEGIN:VEVENT
UID:cdaea317d8894397@ausschreibungsradar.com
DTSTAMP:20260424T090814Z
DTSTART;VALUE=DATE:20250822
DTEND;VALUE=DATE:20250822
SUMMARY:Angebotsfrist — Verbundprojektleitung für die HISinOne-Einführung
DESCRIPTION:Phase: Ausschreibung | Beschreibung: Angebote werden eingeholt | Link: https://ausschreibungsradar.com/ausschreibung/951dfbf4-1075-4ebc-89ec-27944d83dff4/
URL:https://ausschreibungsradar.com/ausschreibung/951dfbf4-1075-4ebc-89ec-27944d83dff4/
END:VEVENT
BEGIN:VEVENT
UID:57856c7d955d67d6@ausschreibungsradar.com
DTSTAMP:20260424T090814Z
DTSTART;VALUE=DATE:20250715
DTEND;VALUE=DATE:20250715
SUMMARY:Ausschreibung — Verbundprojektleitung für die HISinOne-Einführung
DESCRIPTION:Phase: Ausschreibung | Beschreibung: Offizielle Ausschreibung mit Bieterfrist. | Link: https://ausschreibungsradar.com/ausschreibung/91c45f10-b633-4e4a-b079-5d4cdd00e739/
URL:https://ausschreibungsradar.com/ausschreibung/91c45f10-b633-4e4a-b079-5d4cdd00e739/
END:VEVENT
BEGIN:VEVENT
UID:9bb9a121b5a07e3d@ausschreibungsradar.com
DTSTAMP:20260424T090814Z
DTSTART;VALUE=DATE:20251028
DTEND;VALUE=DATE:20251028
SUMMARY:Vergabeergebnis — Verbundprojektleitung für die HISinOne-Einführung
DESCRIPTION:Phase: Vergabeergebnis | Beschreibung: Auftrag wurde zugeschlagen | Link: https://ausschreibungsradar.com/ausschreibung/60f2dab8-6c9c-4029-a247-cc6a3a4ae8f6/
URL:https://ausschreibungsradar.com/ausschreibung/60f2dab8-6c9c-4029-a247-cc6a3a4ae8f6/
END:VEVENT
END:VCALENDAR
