BEGIN:VCALENDAR
VERSION:2.0
PRODID:-//AusschreibungsRadar//Timeline//DE
CALSCALE:GREGORIAN
METHOD:PUBLISH
X-WR-CALNAME:Projekt Landeshauptstadt Schwerin - Rahmenvereinbarung für eine Baul
X-WR-TIMEZONE:Europe/Berlin
BEGIN:VEVENT
UID:39210efa659f24ad@ausschreibungsradar.com
DTSTAMP:20260424T233513Z
DTSTART;VALUE=DATE:20251023
DTEND;VALUE=DATE:20251023
SUMMARY:Angebotsfrist — Landeshauptstadt Schwerin - Rahmenvereinbarung für eine Baul
DESCRIPTION:Phase: Ausschreibung | Beschreibung: Angebote werden eingeholt | Link: https://ausschreibungsradar.com/ausschreibung/9537c7cc-8321-4479-914b-cb229b4ddde7/
URL:https://ausschreibungsradar.com/ausschreibung/9537c7cc-8321-4479-914b-cb229b4ddde7/
END:VEVENT
BEGIN:VEVENT
UID:b00dc228a9fd3436@ausschreibungsradar.com
DTSTAMP:20260424T233513Z
DTSTART;VALUE=DATE:20250922
DTEND;VALUE=DATE:20250922
SUMMARY:Ausschreibung — Landeshauptstadt Schwerin - Rahmenvereinbarung für eine Baul
DESCRIPTION:Phase: Ausschreibung | Beschreibung: Offizielle Ausschreibung mit Bieterfrist. | Link: https://ausschreibungsradar.com/ausschreibung/4c9adc7c-62cf-41d9-9564-f3374af64c8b/
URL:https://ausschreibungsradar.com/ausschreibung/4c9adc7c-62cf-41d9-9564-f3374af64c8b/
END:VEVENT
BEGIN:VEVENT
UID:62491d6c0123fad9@ausschreibungsradar.com
DTSTAMP:20260424T233513Z
DTSTART;VALUE=DATE:20250924
DTEND;VALUE=DATE:20250924
SUMMARY:Zuschlag — Landeshauptstadt Schwerin - Rahmenvereinbarung für eine Baul
DESCRIPTION:Phase: Zuschlag | Beschreibung: Vergabeergebnis — Auftrag wurde erteilt oder Verfahren beendet. | Link: https://ausschreibungsradar.com/ausschreibung/24440282/
URL:https://ausschreibungsradar.com/ausschreibung/24440282/
END:VEVENT
BEGIN:VEVENT
UID:2f642250b8919334@ausschreibungsradar.com
DTSTAMP:20260424T233513Z
DTSTART;VALUE=DATE:20251211
DTEND;VALUE=DATE:20251211
SUMMARY:Vergabeergebnis — Landeshauptstadt Schwerin - Rahmenvereinbarung für eine Baul
DESCRIPTION:Phase: Vergabeergebnis | Beschreibung: Auftrag wurde zugeschlagen | Link: https://ausschreibungsradar.com/ausschreibung/6416273a-dac9-48ae-baf1-3e78af01a07a/
URL:https://ausschreibungsradar.com/ausschreibung/6416273a-dac9-48ae-baf1-3e78af01a07a/
END:VEVENT
END:VCALENDAR
