BEGIN:VCALENDAR
VERSION:2.0
PRODID:-//AusschreibungsRadar//Timeline//DE
CALSCALE:GREGORIAN
METHOD:PUBLISH
X-WR-CALNAME:Projekt Medienversorgungsanlagen - Med.Gase
X-WR-TIMEZONE:Europe/Berlin
BEGIN:VEVENT
UID:0292b0d9e5eb9928@ausschreibungsradar.com
DTSTAMP:20260424T233912Z
DTSTART;VALUE=DATE:20241007
DTEND;VALUE=DATE:20241007
SUMMARY:Angebotsfrist — Medienversorgungsanlagen - Med.Gase
DESCRIPTION:Phase: Ausschreibung | Beschreibung: Angebote werden eingeholt | Link: https://ausschreibungsradar.com/ausschreibung/95a40454-1089-4a67-a77f-2f7177480960/
URL:https://ausschreibungsradar.com/ausschreibung/95a40454-1089-4a67-a77f-2f7177480960/
END:VEVENT
BEGIN:VEVENT
UID:f40683db1c67679b@ausschreibungsradar.com
DTSTAMP:20260424T233912Z
DTSTART;VALUE=DATE:20241114
DTEND;VALUE=DATE:20241114
SUMMARY:Vergabeergebnis — Medienversorgungsanlagen - Med.Gase
DESCRIPTION:Phase: Vergabeergebnis | Beschreibung: Auftrag wurde zugeschlagen | Link: https://ausschreibungsradar.com/ausschreibung/a62c56d4-dcba-4559-a8dd-468e2eb32a81/
URL:https://ausschreibungsradar.com/ausschreibung/a62c56d4-dcba-4559-a8dd-468e2eb32a81/
END:VEVENT
END:VCALENDAR
