BEGIN:VCALENDAR
VERSION:2.0
PRODID:-//AusschreibungsRadar//Timeline//DE
CALSCALE:GREGORIAN
METHOD:PUBLISH
X-WR-CALNAME:Projekt Design und Gestaltung von WZB-Medien
X-WR-TIMEZONE:Europe/Berlin
BEGIN:VEVENT
UID:25465409b71b9586@ausschreibungsradar.com
DTSTAMP:20260425T102730Z
DTSTART;VALUE=DATE:20250410
DTEND;VALUE=DATE:20250410
SUMMARY:Ausschreibung — Design und Gestaltung von WZB-Medien
DESCRIPTION:Phase: Ausschreibung | Beschreibung: Angebote werden eingeholt | Link: https://ausschreibungsradar.com/ausschreibung/96317ee8-c09c-411e-8943-03176fef035e/
URL:https://ausschreibungsradar.com/ausschreibung/96317ee8-c09c-411e-8943-03176fef035e/
END:VEVENT
BEGIN:VEVENT
UID:182ab6e12bcbc67e@ausschreibungsradar.com
DTSTAMP:20260425T102730Z
DTSTART;VALUE=DATE:20250410
DTEND;VALUE=DATE:20250410
SUMMARY:Änderung — Design und Gestaltung von WZB-Medien
DESCRIPTION:Phase: Änderung | Beschreibung: Ausschreibung wurde angepasst | Link: https://ausschreibungsradar.com/ausschreibung/96317ee8-c09c-411e-8943-03176fef035e/
URL:https://ausschreibungsradar.com/ausschreibung/96317ee8-c09c-411e-8943-03176fef035e/
END:VEVENT
END:VCALENDAR
