BEGIN:VCALENDAR
VERSION:2.0
PRODID:-//AusschreibungsRadar//Timeline//DE
CALSCALE:GREGORIAN
METHOD:PUBLISH
X-WR-CALNAME:Projekt KWM / St. Marien-Hospital Borken, Umbau und Erweiterung BT 1
X-WR-TIMEZONE:Europe/Berlin
BEGIN:VEVENT
UID:73299c89196332e3@ausschreibungsradar.com
DTSTAMP:20260425T190139Z
DTSTART;VALUE=DATE:20260120
DTEND;VALUE=DATE:20260120
SUMMARY:Angebotsfrist — KWM / St. Marien-Hospital Borken\, Umbau und Erweiterung BT 1
DESCRIPTION:Phase: Ausschreibung | Beschreibung: Angebote werden eingeholt | Link: https://ausschreibungsradar.com/ausschreibung/963951d6-904a-42e7-8b68-96b410ef80f4/
URL:https://ausschreibungsradar.com/ausschreibung/963951d6-904a-42e7-8b68-96b410ef80f4/
END:VEVENT
BEGIN:VEVENT
UID:c7351720075ce283@ausschreibungsradar.com
DTSTAMP:20260425T190139Z
DTSTART;VALUE=DATE:20251218
DTEND;VALUE=DATE:20251218
SUMMARY:Ausschreibung — KWM / St. Marien-Hospital Borken\, Umbau und Erweiterung BT 1
DESCRIPTION:Phase: Ausschreibung | Beschreibung: Offizielle Ausschreibung mit Bieterfrist. | Link: https://ausschreibungsradar.com/ausschreibung/54b5a45e-c597-434c-8b00-48601efb8404/
URL:https://ausschreibungsradar.com/ausschreibung/54b5a45e-c597-434c-8b00-48601efb8404/
END:VEVENT
BEGIN:VEVENT
UID:e1962c4d9de5a40d@ausschreibungsradar.com
DTSTAMP:20260425T190139Z
DTSTART;VALUE=DATE:20260217
DTEND;VALUE=DATE:20260217
SUMMARY:Vergabeergebnis — KWM / St. Marien-Hospital Borken\, Umbau und Erweiterung BT 1
DESCRIPTION:Phase: Vergabeergebnis | Beschreibung: Auftrag wurde zugeschlagen | Link: https://ausschreibungsradar.com/ausschreibung/0a241954-0d11-4d41-b37f-833f06f45f85/
URL:https://ausschreibungsradar.com/ausschreibung/0a241954-0d11-4d41-b37f-833f06f45f85/
END:VEVENT
END:VCALENDAR
