BEGIN:VCALENDAR
VERSION:2.0
PRODID:-//AusschreibungsRadar//Timeline//DE
CALSCALE:GREGORIAN
METHOD:PUBLISH
X-WR-CALNAME:Projekt SEP GS Schützenstraße - Sanierung und Erweiterung - Dachdeck
X-WR-TIMEZONE:Europe/Berlin
BEGIN:VEVENT
UID:cf44370e0c0ab76a@ausschreibungsradar.com
DTSTAMP:20260425T031450Z
DTSTART;VALUE=DATE:20250625
DTEND;VALUE=DATE:20250625
SUMMARY:Ausschreibung — SEP GS Schützenstraße - Sanierung und Erweiterung - Dachdeck
DESCRIPTION:Phase: Ausschreibung | Beschreibung: Offizielle Ausschreibung mit Bieterfrist. | Link: https://ausschreibungsradar.com/ausschreibung/3077ecd1-9387-4f05-bca5-adfd3d16bede/
URL:https://ausschreibungsradar.com/ausschreibung/3077ecd1-9387-4f05-bca5-adfd3d16bede/
END:VEVENT
BEGIN:VEVENT
UID:01185487d64957d5@ausschreibungsradar.com
DTSTAMP:20260425T031450Z
DTSTART;VALUE=DATE:20250709
DTEND;VALUE=DATE:20250709
SUMMARY:Ausschreibung — SEP GS Schützenstraße - Sanierung und Erweiterung - Dachdeck
DESCRIPTION:Phase: Ausschreibung | Beschreibung: Angebote werden eingeholt | Link: https://ausschreibungsradar.com/ausschreibung/965f0ab0-ddc6-46fc-9ff5-06e1e917e681/
URL:https://ausschreibungsradar.com/ausschreibung/965f0ab0-ddc6-46fc-9ff5-06e1e917e681/
END:VEVENT
BEGIN:VEVENT
UID:b189eab044bc99f9@ausschreibungsradar.com
DTSTAMP:20260425T031450Z
DTSTART;VALUE=DATE:20250709
DTEND;VALUE=DATE:20250709
SUMMARY:Ausschreibung — SEP GS Schützenstraße - Sanierung und Erweiterung - Dachdeck
DESCRIPTION:Phase: Ausschreibung | Beschreibung: Offizielle Ausschreibung mit Bieterfrist. | Link: https://ausschreibungsradar.com/ausschreibung/5b02bad9-0793-4d04-b5f3-0473165047e2/
URL:https://ausschreibungsradar.com/ausschreibung/5b02bad9-0793-4d04-b5f3-0473165047e2/
END:VEVENT
BEGIN:VEVENT
UID:598c758aed43e39f@ausschreibungsradar.com
DTSTAMP:20260425T031450Z
DTSTART;VALUE=DATE:20250807
DTEND;VALUE=DATE:20250807
SUMMARY:Zuschlag — SEP GS Schützenstraße - Sanierung und Erweiterung - Dachdeck
DESCRIPTION:Phase: Zuschlag | Beschreibung: Vergabeergebnis — Auftrag wurde erteilt oder Verfahren beendet. | Link: https://ausschreibungsradar.com/ausschreibung/24245266/
URL:https://ausschreibungsradar.com/ausschreibung/24245266/
END:VEVENT
END:VCALENDAR
