BEGIN:VCALENDAR
VERSION:2.0
PRODID:-//AusschreibungsRadar//Timeline//DE
CALSCALE:GREGORIAN
METHOD:PUBLISH
X-WR-CALNAME:Projekt Beschaffung von zwei Feuerwehrtechnischen Aufbauten für zwei
X-WR-TIMEZONE:Europe/Berlin
BEGIN:VEVENT
UID:108bf4f694588a87@ausschreibungsradar.com
DTSTAMP:20260425T211808Z
DTSTART;VALUE=DATE:20241113
DTEND;VALUE=DATE:20241113
SUMMARY:Angebotsfrist — Beschaffung von zwei Feuerwehrtechnischen Aufbauten für zwei
DESCRIPTION:Phase: Ausschreibung | Beschreibung: Angebote werden eingeholt | Link: https://ausschreibungsradar.com/ausschreibung/968d9c48-0bed-4986-82c3-714748b21c13/
URL:https://ausschreibungsradar.com/ausschreibung/968d9c48-0bed-4986-82c3-714748b21c13/
END:VEVENT
BEGIN:VEVENT
UID:894f7a0240f9de1d@ausschreibungsradar.com
DTSTAMP:20260425T211808Z
DTSTART;VALUE=DATE:20240926
DTEND;VALUE=DATE:20240926
SUMMARY:Ausschreibung — Beschaffung von zwei Feuerwehrtechnischen Aufbauten für zwei
DESCRIPTION:Phase: Ausschreibung | Beschreibung: Offizielle Ausschreibung mit Bieterfrist. | Link: https://ausschreibungsradar.com/ausschreibung/4265290a-cede-4222-91d4-b3384988f724/
URL:https://ausschreibungsradar.com/ausschreibung/4265290a-cede-4222-91d4-b3384988f724/
END:VEVENT
BEGIN:VEVENT
UID:2530ff56b3ef686f@ausschreibungsradar.com
DTSTAMP:20260425T211808Z
DTSTART;VALUE=DATE:20240926
DTEND;VALUE=DATE:20240926
SUMMARY:Ausschreibung — Beschaffung von zwei Feuerwehrtechnischen Aufbauten für zwei
DESCRIPTION:Phase: Ausschreibung | Beschreibung: Offizielle Ausschreibung mit Bieterfrist. | Link: https://ausschreibungsradar.com/ausschreibung/22774588/
URL:https://ausschreibungsradar.com/ausschreibung/22774588/
END:VEVENT
BEGIN:VEVENT
UID:cde97aed7a5209f5@ausschreibungsradar.com
DTSTAMP:20260425T211808Z
DTSTART;VALUE=DATE:20241022
DTEND;VALUE=DATE:20241022
SUMMARY:Zuschlag — Beschaffung von zwei Feuerwehrtechnischen Aufbauten für zwei
DESCRIPTION:Phase: Zuschlag | Beschreibung: Vergabeergebnis — Auftrag wurde erteilt oder Verfahren beendet. | Link: https://ausschreibungsradar.com/ausschreibung/3c8df612-f00c-4e6d-8afc-e3accf7c5d58/
URL:https://ausschreibungsradar.com/ausschreibung/3c8df612-f00c-4e6d-8afc-e3accf7c5d58/
END:VEVENT
BEGIN:VEVENT
UID:7bc3c3373a931792@ausschreibungsradar.com
DTSTAMP:20260425T211808Z
DTSTART;VALUE=DATE:20250112
DTEND;VALUE=DATE:20250112
SUMMARY:Vergabeergebnis — Beschaffung von zwei Feuerwehrtechnischen Aufbauten für zwei
DESCRIPTION:Phase: Vergabeergebnis | Beschreibung: Auftrag wurde zugeschlagen | Link: https://ausschreibungsradar.com/ausschreibung/9cf3722a-a49e-42a9-acde-6eb00b3f6827/ | Geschätzter Wert: 553429 €
URL:https://ausschreibungsradar.com/ausschreibung/9cf3722a-a49e-42a9-acde-6eb00b3f6827/
END:VEVENT
END:VCALENDAR
