BEGIN:VCALENDAR
VERSION:2.0
PRODID:-//AusschreibungsRadar//Timeline//DE
CALSCALE:GREGORIAN
METHOD:PUBLISH
X-WR-CALNAME:Projekt Nibelungenschule, Heppenheim - Trägerschaft Ganztagsförderun
X-WR-TIMEZONE:Europe/Berlin
BEGIN:VEVENT
UID:8cec8ff54415cff4@ausschreibungsradar.com
DTSTAMP:20260426T013440Z
DTSTART;VALUE=DATE:20260113
DTEND;VALUE=DATE:20260113
SUMMARY:Angebotsfrist — Nibelungenschule\, Heppenheim - Trägerschaft Ganztagsförderun
DESCRIPTION:Phase: Ausschreibung | Beschreibung: Angebote werden eingeholt | Link: https://ausschreibungsradar.com/ausschreibung/4eb51599-d10b-4d4d-8da1-2916e7df81e5/
URL:https://ausschreibungsradar.com/ausschreibung/4eb51599-d10b-4d4d-8da1-2916e7df81e5/
END:VEVENT
BEGIN:VEVENT
UID:44137844b2f67349@ausschreibungsradar.com
DTSTAMP:20260426T013440Z
DTSTART;VALUE=DATE:20260327
DTEND;VALUE=DATE:20260327
SUMMARY:Vergabeergebnis — Nibelungenschule\, Heppenheim - Trägerschaft Ganztagsförderun
DESCRIPTION:Phase: Vergabeergebnis | Beschreibung: Auftrag wurde zugeschlagen | Link: https://ausschreibungsradar.com/ausschreibung/96da17c2-a8b1-43e9-a982-0f21e405458b/
URL:https://ausschreibungsradar.com/ausschreibung/96da17c2-a8b1-43e9-a982-0f21e405458b/
END:VEVENT
BEGIN:VEVENT
UID:ea0318427b1c8cfd@ausschreibungsradar.com
DTSTAMP:20260426T013440Z
DTSTART;VALUE=DATE:20260328
DTEND;VALUE=DATE:20260328
SUMMARY:Ausschreibung — Nibelungenschule\, Heppenheim - Trägerschaft Ganztagsförderun
DESCRIPTION:Phase: Ausschreibung | Beschreibung: Offizielle Ausschreibung mit Bieterfrist. | Link: https://ausschreibungsradar.com/ausschreibung/e58040b9-209c-4fbb-931b-9b74f7abddaa/
URL:https://ausschreibungsradar.com/ausschreibung/e58040b9-209c-4fbb-931b-9b74f7abddaa/
END:VEVENT
END:VCALENDAR
