BEGIN:VCALENDAR
VERSION:2.0
PRODID:-//AusschreibungsRadar//Timeline//DE
CALSCALE:GREGORIAN
METHOD:PUBLISH
X-WR-CALNAME:Projekt Neubau Bildungshaus - Lieferung Lose Möbel
X-WR-TIMEZONE:Europe/Berlin
BEGIN:VEVENT
UID:3c02c46c250a7928@ausschreibungsradar.com
DTSTAMP:20260423T230228Z
DTSTART;VALUE=DATE:20250715
DTEND;VALUE=DATE:20250715
SUMMARY:Angebotsfrist — Neubau Bildungshaus - Lieferung Lose Möbel
DESCRIPTION:Phase: Ausschreibung | Beschreibung: Angebote werden eingeholt | Link: https://ausschreibungsradar.com/ausschreibung/96df516b-f7f3-4780-a23b-afc2ffddc8ec/
URL:https://ausschreibungsradar.com/ausschreibung/96df516b-f7f3-4780-a23b-afc2ffddc8ec/
END:VEVENT
BEGIN:VEVENT
UID:ad06352e6d4fb23b@ausschreibungsradar.com
DTSTAMP:20260423T230228Z
DTSTART;VALUE=DATE:20250611
DTEND;VALUE=DATE:20250611
SUMMARY:Ausschreibung — Neubau Bildungshaus - Lieferung Lose Möbel
DESCRIPTION:Phase: Ausschreibung | Beschreibung: Offizielle Ausschreibung mit Bieterfrist. | Link: https://ausschreibungsradar.com/ausschreibung/2314709c-1e83-4589-9f83-9ce1c56dee4c/
URL:https://ausschreibungsradar.com/ausschreibung/2314709c-1e83-4589-9f83-9ce1c56dee4c/
END:VEVENT
END:VCALENDAR
