BEGIN:VCALENDAR
VERSION:2.0
PRODID:-//AusschreibungsRadar//Timeline//DE
CALSCALE:GREGORIAN
METHOD:PUBLISH
X-WR-CALNAME:Projekt Abbruch und Neubau des Dientzenhofer-Gymnasiums in Bamberg -
X-WR-TIMEZONE:Europe/Berlin
BEGIN:VEVENT
UID:a190450cacac3ff6@ausschreibungsradar.com
DTSTAMP:20260426T021342Z
DTSTART;VALUE=DATE:20250506
DTEND;VALUE=DATE:20250506
SUMMARY:Ausschreibung — Abbruch und Neubau des Dientzenhofer-Gymnasiums in Bamberg -
DESCRIPTION:Phase: Ausschreibung | Beschreibung: Angebote werden eingeholt | Link: https://ausschreibungsradar.com/ausschreibung/e7af60c3-d2a0-4580-a684-41072c5e0b86/
URL:https://ausschreibungsradar.com/ausschreibung/e7af60c3-d2a0-4580-a684-41072c5e0b86/
END:VEVENT
BEGIN:VEVENT
UID:87349b6137cb4aeb@ausschreibungsradar.com
DTSTAMP:20260426T021342Z
DTSTART;VALUE=DATE:20251117
DTEND;VALUE=DATE:20251117
SUMMARY:Vergabeergebnis — Abbruch und Neubau des Dientzenhofer-Gymnasiums in Bamberg -
DESCRIPTION:Phase: Vergabeergebnis | Beschreibung: Auftrag wurde zugeschlagen | Link: https://ausschreibungsradar.com/ausschreibung/96f2eba6-6e30-46e7-9e02-558bca6e87c9/
URL:https://ausschreibungsradar.com/ausschreibung/96f2eba6-6e30-46e7-9e02-558bca6e87c9/
END:VEVENT
BEGIN:VEVENT
UID:cd488bafe1a6ffe9@ausschreibungsradar.com
DTSTAMP:20260426T021342Z
DTSTART;VALUE=DATE:20251119
DTEND;VALUE=DATE:20251119
SUMMARY:Zuschlag — Abbruch und Neubau des Dientzenhofer-Gymnasiums in Bamberg -
DESCRIPTION:Phase: Zuschlag | Beschreibung: Vergabeergebnis — Auftrag wurde erteilt oder Verfahren beendet. | Link: https://ausschreibungsradar.com/ausschreibung/a509533f-72e8-455d-b926-3a17bf57e21e/
URL:https://ausschreibungsradar.com/ausschreibung/a509533f-72e8-455d-b926-3a17bf57e21e/
END:VEVENT
END:VCALENDAR
