BEGIN:VCALENDAR
VERSION:2.0
PRODID:-//AusschreibungsRadar//Timeline//DE
CALSCALE:GREGORIAN
METHOD:PUBLISH
X-WR-CALNAME:Projekt Rahmenvertrag Outplacement-Beratung
X-WR-TIMEZONE:Europe/Berlin
BEGIN:VEVENT
UID:d03219d290780b3c@ausschreibungsradar.com
DTSTAMP:20260425T194211Z
DTSTART;VALUE=DATE:20231025
DTEND;VALUE=DATE:20231025
SUMMARY:Angebotsfrist — Rahmenvertrag Outplacement-Beratung
DESCRIPTION:Phase: Ausschreibung | Beschreibung: Angebote werden eingeholt | Link: https://ausschreibungsradar.com/ausschreibung/96f7f480-85b1-494f-9558-5d11e0fd7d50/
URL:https://ausschreibungsradar.com/ausschreibung/96f7f480-85b1-494f-9558-5d11e0fd7d50/
END:VEVENT
BEGIN:VEVENT
UID:224e730c3a533a23@ausschreibungsradar.com
DTSTAMP:20260425T194211Z
DTSTART;VALUE=DATE:20231208
DTEND;VALUE=DATE:20231208
SUMMARY:Vergabeergebnis — Rahmenvertrag Outplacement-Beratung
DESCRIPTION:Phase: Vergabeergebnis | Beschreibung: Auftrag wurde zugeschlagen | Link: https://ausschreibungsradar.com/ausschreibung/1cb044d1-8834-4e57-a55a-bb449733374e/
URL:https://ausschreibungsradar.com/ausschreibung/1cb044d1-8834-4e57-a55a-bb449733374e/
END:VEVENT
END:VCALENDAR
